BEGIN:VCALENDAR
VERSION:2.0
PRODID:-//UNIVERSITY OF TEXAS SCHOOL OF LAW//NONSGML Events Calendar v1.0//EN
X-WR-TIMEZONE:America/Chicago
BEGIN:VTIMEZONE
TZID:US/Central
X-LIC-LOCATION:America/Chicago
BEGIN:DAYLIGHT
TZOFFSETFROM:-0600
TZOFFSETTO:-0500
TZNAME:CDT
DTSTART:19700308T020000
RRULE:FREQ=YEARLY;BYMONTH=3;BYDAY=2SU
END:DAYLIGHT
BEGIN:STANDARD
TZOFFSETFROM:-0500
TZOFFSETTO:-0600
TZNAME:CST
DTSTART:19701101T020000
RRULE:FREQ=YEARLY;BYMONTH=11;BYDAY=1SU
END:STANDARD
END:VTIMEZONE
BEGIN:VEVENT
DTSTART;TZID=US/Central:20250409T160000
DTEND;VALUE=DATE-TIME;TZID=US/Central:20250409T163000

DTSTAMP:20260419T155600Z
CREATED:20250406T233400Z
LAST-MODIFIED:20250407T122500Z
UID:20250409T160000-82256@law.utexas.edu
SUMMARY:SBA Board of Governors Info Session
DESCRIPTION:<p>The Student Bar Association is the student governing body at Texas Law. The SBA Board serves as a liaison between the student body, the law school administration, and the University of Texas administration. Our goal is to foster community and serve the needs of the student body. </p>
  <p>All law students are members of the SBA and elect the members of the SBA Board of Governors. SBA Spring Elections will be held on Tuesday, April 15th. If you are interested in running for a position on our 2025–2026 Board, you must attend one of the following information sessions: 
  Wednesday, April 9th at 12:00PM–12:30PM in TNH 2.137
  Wednesday, April 9th at 4:00PM-4:30PM in TNH 2.137</p>
  <p>If you are unable to attend in person, a virtual option will be available. </p>
  <p>Available positions: 
  •	President
  •	VP of Programming
  •	VP of Communications
  •	VP of Operations
  •	Financial Director
  •	Media Coordinator
  •	External Events Chair
  •	Rules and Standards Chair
  •	3L Class Representative (2)
  •	2L Class Representative (2)</p>\n\nIf you need an accommodation to participate in this event, please contact the event sponsor or the Texas Law Special Events Office at specialevents@law.utexas.edu no later than seven business days prior to the event.
X-ALT-DESC;FMTTYPE=text/html:<p>The Student Bar Association is the student governing body at Texas Law. The SBA Board serves as a liaison between the student body, the law school administration, and the University of Texas administration. Our goal is to foster community and serve the needs of the student body. </p>
  <p>All law students are members of the SBA and elect the members of the SBA Board of Governors. SBA Spring Elections will be held on Tuesday, April 15th. If you are interested in running for a position on our 2025–2026 Board, you must attend one of the following information sessions: 
  Wednesday, April 9th at 12:00PM–12:30PM in TNH 2.137
  Wednesday, April 9th at 4:00PM-4:30PM in TNH 2.137</p>
  <p>If you are unable to attend in person, a virtual option will be available. </p>
  <p>Available positions: 
  •	President
  •	VP of Programming
  •	VP of Communications
  •	VP of Operations
  •	Financial Director
  •	Media Coordinator
  •	External Events Chair
  •	Rules and Standards Chair
  •	3L Class Representative (2)
  •	2L Class Representative (2)</p><p>If you need an accommodation to participate in this event, please contact the event
                                          event sponsor or the Texas Law Special Events Office at <a href="mailto:specialevents@law.utexas.edu">specialevents@law.utexas.edu</a> no later than seven business days prior to the event.</p>

LOCATION:TNH 2.137 - Gayle Classroom
URL:http://law.utexas.edu/calendar/2025/04/09/82256/
CLASS:PUBLIC
STATUS:CONFIRMED

END:VEVENT
END:VCALENDAR