BEGIN:VCALENDAR
VERSION:2.0
PRODID:-//UNIVERSITY OF TEXAS SCHOOL OF LAW//NONSGML Events Calendar v1.0//EN
X-WR-TIMEZONE:America/Chicago
BEGIN:VTIMEZONE
TZID:US/Central
X-LIC-LOCATION:America/Chicago
BEGIN:DAYLIGHT
TZOFFSETFROM:-0600
TZOFFSETTO:-0500
TZNAME:CDT
DTSTART:19700308T020000
RRULE:FREQ=YEARLY;BYMONTH=3;BYDAY=2SU
END:DAYLIGHT
BEGIN:STANDARD
TZOFFSETFROM:-0500
TZOFFSETTO:-0600
TZNAME:CST
DTSTART:19701101T020000
RRULE:FREQ=YEARLY;BYMONTH=11;BYDAY=1SU
END:STANDARD
END:VTIMEZONE
BEGIN:VEVENT
DTSTART;TZID=US/Central:20250410T115000
DTEND;VALUE=DATE-TIME;TZID=US/Central:20250410T125000

DTSTAMP:20260419T202100Z
CREATED:20250217T182100Z
LAST-MODIFIED:20250221T150400Z
UID:20250410T115000-81457@law.utexas.edu
SUMMARY:Disabilities and International Law
DESCRIPTION:<p>Disability and Neurodivergent Law Student Alliance will be hosting a panel on disabilities and international law. The focus of the panel will be on both how individuals with disabilities can practice in international law and the intersection between disabilities and international law. </p>\n\nIf you need an accommodation to participate in this event, please contact the event sponsor or the Texas Law Special Events Office at specialevents@law.utexas.edu no later than seven business days prior to the event.
X-ALT-DESC;FMTTYPE=text/html:<p>Disability and Neurodivergent Law Student Alliance will be hosting a panel on disabilities and international law. The focus of the panel will be on both how individuals with disabilities can practice in international law and the intersection between disabilities and international law. </p><p>If you need an accommodation to participate in this event, please contact the event
                                          event sponsor or the Texas Law Special Events Office at <a href="mailto:specialevents@law.utexas.edu">specialevents@law.utexas.edu</a> no later than seven business days prior to the event.</p>


URL:http://law.utexas.edu/calendar/2025/04/10/81457/
CLASS:PUBLIC
STATUS:CONFIRMED

END:VEVENT
END:VCALENDAR