BEGIN:VCALENDAR
VERSION:2.0
PRODID:-//UNIVERSITY OF TEXAS SCHOOL OF LAW//NONSGML Events Calendar v1.0//EN
X-WR-TIMEZONE:America/Chicago
BEGIN:VTIMEZONE
TZID:US/Central
X-LIC-LOCATION:America/Chicago
BEGIN:DAYLIGHT
TZOFFSETFROM:-0600
TZOFFSETTO:-0500
TZNAME:CDT
DTSTART:19700308T020000
RRULE:FREQ=YEARLY;BYMONTH=3;BYDAY=2SU
END:DAYLIGHT
BEGIN:STANDARD
TZOFFSETFROM:-0500
TZOFFSETTO:-0600
TZNAME:CST
DTSTART:19701101T020000
RRULE:FREQ=YEARLY;BYMONTH=11;BYDAY=1SU
END:STANDARD
END:VTIMEZONE
BEGIN:VEVENT
DTSTART;TZID=US/Central:20250410T183000
DTEND;VALUE=DATE-TIME;TZID=US/Central:20250410T203000

DTSTAMP:20260419T220400Z
CREATED:20250319T162100Z
LAST-MODIFIED:20250319T162100Z
UID:20250410T183000-82035@law.utexas.edu
SUMMARY:Texas Law Showcase
DESCRIPTION:<p>Texas Law is launching the Law and Business Program—and we’re celebrating in NYC!</p>
  <p>Join us for a special evening of networking, insight, and connection as we introduce this exciting new initiative designed to prepare future lawyers for success in corporate and business law. Hosted in NYC, where our founding faculty director, Professor Eliot Cotton ’10, began his legal career, this event brings together alumni to engage in the future of law and business.</p>
  <p>Thursday, April 10 | 6:30 - 8:30 p.m. ET | The Hotel Chelsea</p>
  <p>Don't miss this chance to connect with fellow alumni in NYC.</p>\n\nIf you need an accommodation to participate in this event, please contact the event sponsor or the Texas Law Special Events Office at specialevents@law.utexas.edu no later than seven business days prior to the event.
X-ALT-DESC;FMTTYPE=text/html:<p>Texas Law is launching the Law and Business Program—and we’re celebrating in NYC!</p>
  <p>Join us for a special evening of networking, insight, and connection as we introduce this exciting new initiative designed to prepare future lawyers for success in corporate and business law. Hosted in NYC, where our founding faculty director, Professor Eliot Cotton ’10, began his legal career, this event brings together alumni to engage in the future of law and business.</p>
  <p>Thursday, April 10 | 6:30 - 8:30 p.m. ET | The Hotel Chelsea</p>
  <p>Don't miss this chance to connect with fellow alumni in NYC.</p><p>If you need an accommodation to participate in this event, please contact the event
                                          event sponsor or the Texas Law Special Events Office at <a href="mailto:specialevents@law.utexas.edu">specialevents@law.utexas.edu</a> no later than seven business days prior to the event.</p>
CATEGORIES:Panel Discussion / Speaker Series
LOCATION:The Hotel Chelsea
URL:http://law.utexas.edu/calendar/2025/04/10/82035/
CLASS:PUBLIC
STATUS:CONFIRMED
COMMENT:events@law.utexas.edu
END:VEVENT
END:VCALENDAR