BEGIN:VCALENDAR
VERSION:2.0
PRODID:-//UNIVERSITY OF TEXAS SCHOOL OF LAW//NONSGML Events Calendar v1.0//EN
X-WR-TIMEZONE:America/Chicago
BEGIN:VTIMEZONE
TZID:US/Central
X-LIC-LOCATION:America/Chicago
BEGIN:DAYLIGHT
TZOFFSETFROM:-0600
TZOFFSETTO:-0500
TZNAME:CDT
DTSTART:19700308T020000
RRULE:FREQ=YEARLY;BYMONTH=3;BYDAY=2SU
END:DAYLIGHT
BEGIN:STANDARD
TZOFFSETFROM:-0500
TZOFFSETTO:-0600
TZNAME:CST
DTSTART:19701101T020000
RRULE:FREQ=YEARLY;BYMONTH=11;BYDAY=1SU
END:STANDARD
END:VTIMEZONE
BEGIN:VEVENT
DTSTART;TZID=US/Central:20250723T173000
DTEND;VALUE=DATE-TIME;TZID=US/Central:20250723T193000

DTSTAMP:20260419T203100Z
CREATED:20250522T193000Z
LAST-MODIFIED:20250529T140700Z
UID:20250723T173000-82676@law.utexas.edu
SUMMARY:Houston Summer Social
DESCRIPTION:<p>Reconnect with alumni and welcome current students working in Houston this summer. Hosted by Reed Smith LLP.</p>\n\nIf you need an accommodation to participate in this event, please contact the event sponsor or the Texas Law Special Events Office at specialevents@law.utexas.edu no later than seven business days prior to the event.
X-ALT-DESC;FMTTYPE=text/html:<p>Reconnect with alumni and welcome current students working in Houston this summer. Hosted by Reed Smith LLP.</p><p>If you need an accommodation to participate in this event, please contact the event
                                          event sponsor or the Texas Law Special Events Office at <a href="mailto:specialevents@law.utexas.edu">specialevents@law.utexas.edu</a> no later than seven business days prior to the event.</p>
CATEGORIES:Reception
LOCATION:Reed Smith LLP
URL:http://law.utexas.edu/calendar/2025/07/23/82676/
CLASS:PUBLIC
STATUS:CONFIRMED
COMMENT:events@law.utexas.edu
END:VEVENT
END:VCALENDAR