BEGIN:VCALENDAR
VERSION:2.0
PRODID:-//UNIVERSITY OF TEXAS SCHOOL OF LAW//NONSGML Events Calendar v1.0//EN
X-WR-TIMEZONE:America/Chicago
BEGIN:VTIMEZONE
TZID:US/Central
X-LIC-LOCATION:America/Chicago
BEGIN:DAYLIGHT
TZOFFSETFROM:-0600
TZOFFSETTO:-0500
TZNAME:CDT
DTSTART:19700308T020000
RRULE:FREQ=YEARLY;BYMONTH=3;BYDAY=2SU
END:DAYLIGHT
BEGIN:STANDARD
TZOFFSETFROM:-0500
TZOFFSETTO:-0600
TZNAME:CST
DTSTART:19701101T020000
RRULE:FREQ=YEARLY;BYMONTH=11;BYDAY=1SU
END:STANDARD
END:VTIMEZONE
BEGIN:VEVENT
DTSTART;TZID=US/Central:20250725T173000
DTEND;VALUE=DATE-TIME;TZID=US/Central:20250725T190000

DTSTAMP:20260419T172200Z
CREATED:20250625T145900Z
LAST-MODIFIED:20250625T145900Z
UID:20250725T173000-82841@law.utexas.edu
SUMMARY:Party on the Patio
DESCRIPTION:<p>This event is part of the Admitted Student Summer Welcome Series and will take place in the Law School’s Patman Family Plaza and Dee J. Kelly Courtyard. Mingle with your classmates while enjoying tasty Austin cuisine.</p>\n\nIf you need an accommodation to participate in this event, please contact the event sponsor or the Texas Law Special Events Office at specialevents@law.utexas.edu no later than seven business days prior to the event.
X-ALT-DESC;FMTTYPE=text/html:<p>This event is part of the Admitted Student Summer Welcome Series and will take place in the Law School’s Patman Family Plaza and Dee J. Kelly Courtyard. Mingle with your classmates while enjoying tasty Austin cuisine.</p><p>If you need an accommodation to participate in this event, please contact the event
                                          event sponsor or the Texas Law Special Events Office at <a href="mailto:specialevents@law.utexas.edu">specialevents@law.utexas.edu</a> no later than seven business days prior to the event.</p>

LOCATION: PATMAN - Patman Family Plaza
URL:http://law.utexas.edu/calendar/2025/07/25/82841/
CLASS:PUBLIC
STATUS:CONFIRMED

END:VEVENT
END:VCALENDAR