BEGIN:VCALENDAR
VERSION:2.0
PRODID:-//UNIVERSITY OF TEXAS SCHOOL OF LAW//NONSGML Events Calendar v1.0//EN
X-WR-TIMEZONE:America/Chicago
BEGIN:VTIMEZONE
TZID:US/Central
X-LIC-LOCATION:America/Chicago
BEGIN:DAYLIGHT
TZOFFSETFROM:-0600
TZOFFSETTO:-0500
TZNAME:CDT
DTSTART:19700308T020000
RRULE:FREQ=YEARLY;BYMONTH=3;BYDAY=2SU
END:DAYLIGHT
BEGIN:STANDARD
TZOFFSETFROM:-0500
TZOFFSETTO:-0600
TZNAME:CST
DTSTART:19701101T020000
RRULE:FREQ=YEARLY;BYMONTH=11;BYDAY=1SU
END:STANDARD
END:VTIMEZONE
BEGIN:VEVENT
DTSTART;TZID=US/Central:20250902T120000
DTEND;VALUE=DATE-TIME;TZID=US/Central:20250902T124500

DTSTAMP:20260419T120000Z
CREATED:20250701T202400Z
LAST-MODIFIED:20250829T162000Z
UID:20250902T120000-82916@law.utexas.edu
SUMMARY:Law School 101 - Notetaking
DESCRIPTION:<p>All 1Ls are welcome to join SAO for a Law School 101 session on notetaking, preparing for class, and reading strategies, which is sponsored by Troutman Pepper Locke. Overflow room will be TNH 2.138. Lunch is provided on a first-come, first-served basis.</p>\n\nIf you need an accommodation to participate in this event, please contact the event sponsor or the Texas Law Special Events Office at specialevents@law.utexas.edu no later than seven business days prior to the event.
X-ALT-DESC;FMTTYPE=text/html:<p>All 1Ls are welcome to join SAO for a Law School 101 session on notetaking, preparing for class, and reading strategies, which is sponsored by Troutman Pepper Locke. Overflow room will be TNH 2.138. Lunch is provided on a first-come, first-served basis.</p><p>If you need an accommodation to participate in this event, please contact the event
                                          event sponsor or the Texas Law Special Events Office at <a href="mailto:specialevents@law.utexas.edu">specialevents@law.utexas.edu</a> no later than seven business days prior to the event.</p>

LOCATION:TNH 2.114 - Francis Auditorium
URL:http://law.utexas.edu/calendar/2025/09/02/82916/
CLASS:PUBLIC
STATUS:CONFIRMED

END:VEVENT
END:VCALENDAR