BEGIN:VCALENDAR
VERSION:2.0
PRODID:-//UNIVERSITY OF TEXAS SCHOOL OF LAW//NONSGML Events Calendar v1.0//EN
X-WR-TIMEZONE:America/Chicago
BEGIN:VTIMEZONE
TZID:US/Central
X-LIC-LOCATION:America/Chicago
BEGIN:DAYLIGHT
TZOFFSETFROM:-0600
TZOFFSETTO:-0500
TZNAME:CDT
DTSTART:19700308T020000
RRULE:FREQ=YEARLY;BYMONTH=3;BYDAY=2SU
END:DAYLIGHT
BEGIN:STANDARD
TZOFFSETFROM:-0500
TZOFFSETTO:-0600
TZNAME:CST
DTSTART:19701101T020000
RRULE:FREQ=YEARLY;BYMONTH=11;BYDAY=1SU
END:STANDARD
END:VTIMEZONE
BEGIN:VEVENT
DTSTART;TZID=US/Central:20250902T080000
DTEND;VALUE=DATE-TIME;TZID=US/Central:20250902T090000

DTSTAMP:20260420T131000Z
CREATED:20250804T023600Z
LAST-MODIFIED:20250811T212800Z
UID:20250902T080000-83236@law.utexas.edu
SUMMARY:Coffee &amp; Kolaches Social
DESCRIPTION:<p>Join Law Students for Life for a casual Coffee &amp; Kolaches social in the Dee J. Kelly Courtyard. We’ll catch up after the summer, welcome interested students, and preview this semester’s events. Come connect with fellow life-affirming students in a relaxed setting—no formal agenda, just good coffee, good food, and good company.</p>\n\nIf you need an accommodation to participate in this event, please contact the event sponsor or the Texas Law Special Events Office at specialevents@law.utexas.edu no later than seven business days prior to the event.
X-ALT-DESC;FMTTYPE=text/html:<p>Join Law Students for Life for a casual Coffee &amp; Kolaches social in the Dee J. Kelly Courtyard. We’ll catch up after the summer, welcome interested students, and preview this semester’s events. Come connect with fellow life-affirming students in a relaxed setting—no formal agenda, just good coffee, good food, and good company.</p><p>If you need an accommodation to participate in this event, please contact the event
                                          event sponsor or the Texas Law Special Events Office at <a href="mailto:specialevents@law.utexas.edu">specialevents@law.utexas.edu</a> no later than seven business days prior to the event.</p>
CATEGORIES:Breakfast

URL:http://law.utexas.edu/calendar/2025/09/02/83236/
CLASS:PUBLIC
STATUS:CONFIRMED
COMMENT:Email Megan Ezekannagha at megan.ezekannagha@my.utexas.edu.
END:VEVENT
END:VCALENDAR