BEGIN:VCALENDAR
VERSION:2.0
PRODID:-//UNIVERSITY OF TEXAS SCHOOL OF LAW//NONSGML Events Calendar v1.0//EN
X-WR-TIMEZONE:America/Chicago
BEGIN:VTIMEZONE
TZID:US/Central
X-LIC-LOCATION:America/Chicago
BEGIN:DAYLIGHT
TZOFFSETFROM:-0600
TZOFFSETTO:-0500
TZNAME:CDT
DTSTART:19700308T020000
RRULE:FREQ=YEARLY;BYMONTH=3;BYDAY=2SU
END:DAYLIGHT
BEGIN:STANDARD
TZOFFSETFROM:-0500
TZOFFSETTO:-0600
TZNAME:CST
DTSTART:19701101T020000
RRULE:FREQ=YEARLY;BYMONTH=11;BYDAY=1SU
END:STANDARD
END:VTIMEZONE
BEGIN:VEVENT
DTSTART;TZID=US/Central:20250903T070000
DTEND;VALUE=DATE-TIME;TZID=US/Central:20250903T081500

DTSTAMP:20260419T163600Z
CREATED:20250514T210800Z
LAST-MODIFIED:20250822T133800Z
UID:20250903T070000-82619@law.utexas.edu
SUMMARY:Alumni Breakfast at Jud. Ed. Conf.
DESCRIPTION:<p>Join Dean Bobby Chesney and Texas Law alumni for breakfast at the Annual Judicial Education Conference.  </p>\n\nIf you need an accommodation to participate in this event, please contact the event sponsor or the Texas Law Special Events Office at specialevents@law.utexas.edu no later than seven business days prior to the event.
X-ALT-DESC;FMTTYPE=text/html:<p>Join Dean Bobby Chesney and Texas Law alumni for breakfast at the Annual Judicial Education Conference.  </p><p>If you need an accommodation to participate in this event, please contact the event
                                          event sponsor or the Texas Law Special Events Office at <a href="mailto:specialevents@law.utexas.edu">specialevents@law.utexas.edu</a> no later than seven business days prior to the event.</p>
CATEGORIES:Breakfast
LOCATION:JW Marriott Austin Downtown
URL:http://law.utexas.edu/calendar/2025/09/03/82619/
CLASS:PUBLIC
STATUS:CONFIRMED
COMMENT:events@law.utexas.edu
END:VEVENT
END:VCALENDAR