BEGIN:VCALENDAR
VERSION:2.0
PRODID:-//UNIVERSITY OF TEXAS SCHOOL OF LAW//NONSGML Events Calendar v1.0//EN
X-WR-TIMEZONE:America/Chicago
BEGIN:VTIMEZONE
TZID:US/Central
X-LIC-LOCATION:America/Chicago
BEGIN:DAYLIGHT
TZOFFSETFROM:-0600
TZOFFSETTO:-0500
TZNAME:CDT
DTSTART:19700308T020000
RRULE:FREQ=YEARLY;BYMONTH=3;BYDAY=2SU
END:DAYLIGHT
BEGIN:STANDARD
TZOFFSETFROM:-0500
TZOFFSETTO:-0600
TZNAME:CST
DTSTART:19701101T020000
RRULE:FREQ=YEARLY;BYMONTH=11;BYDAY=1SU
END:STANDARD
END:VTIMEZONE
BEGIN:VEVENT
DTSTART;TZID=US/Central:20250904T115000
DTEND;VALUE=DATE-TIME;TZID=US/Central:20250904T125000

DTSTAMP:20260419T182000Z
CREATED:20250822T165900Z
LAST-MODIFIED:20250829T220400Z
UID:20250904T115000-83900@law.utexas.edu
SUMMARY:Skrmetti: Transgender Minor Medical Care
DESCRIPTION:<p>Texas Federalist Society is hosting a debate on whether minors should have access to gender affirming care in light of the Supreme Court's decision in last term's Skrmetti case. We will host Brandon Smith, the former Chief of Staff to Tennessee Attorney General Jonathan Skrmetti, Professor Lawrence Sager from the University of Texas School of Law, and Andrew Brown from the Texas Public Policy Foundation to debate this issue. Chick-fil-a will be provided!</p>\n\nIf you need an accommodation to participate in this event, please contact the event sponsor or the Texas Law Special Events Office at specialevents@law.utexas.edu no later than seven business days prior to the event.
X-ALT-DESC;FMTTYPE=text/html:<p>Texas Federalist Society is hosting a debate on whether minors should have access to gender affirming care in light of the Supreme Court's decision in last term's Skrmetti case. We will host Brandon Smith, the former Chief of Staff to Tennessee Attorney General Jonathan Skrmetti, Professor Lawrence Sager from the University of Texas School of Law, and Andrew Brown from the Texas Public Policy Foundation to debate this issue. Chick-fil-a will be provided!</p><p>If you need an accommodation to participate in this event, please contact the event
                                          event sponsor or the Texas Law Special Events Office at <a href="mailto:specialevents@law.utexas.edu">specialevents@law.utexas.edu</a> no later than seven business days prior to the event.</p>
CATEGORIES:Lunch
LOCATION:TNH 2.138 - Blanton Classroom
URL:http://law.utexas.edu/calendar/2025/09/04/83900/
CLASS:PUBLIC
STATUS:CONFIRMED

END:VEVENT
END:VCALENDAR