BEGIN:VCALENDAR
VERSION:2.0
PRODID:-//UNIVERSITY OF TEXAS SCHOOL OF LAW//NONSGML Events Calendar v1.0//EN
X-WR-TIMEZONE:America/Chicago
BEGIN:VTIMEZONE
TZID:US/Central
X-LIC-LOCATION:America/Chicago
BEGIN:DAYLIGHT
TZOFFSETFROM:-0600
TZOFFSETTO:-0500
TZNAME:CDT
DTSTART:19700308T020000
RRULE:FREQ=YEARLY;BYMONTH=3;BYDAY=2SU
END:DAYLIGHT
BEGIN:STANDARD
TZOFFSETFROM:-0500
TZOFFSETTO:-0600
TZNAME:CST
DTSTART:19701101T020000
RRULE:FREQ=YEARLY;BYMONTH=11;BYDAY=1SU
END:STANDARD
END:VTIMEZONE
BEGIN:VEVENT
DTSTART;TZID=US/Central:20250908T115000
DTEND;VALUE=DATE-TIME;TZID=US/Central:20250908T125000

DTSTAMP:20260419T171900Z
CREATED:20250829T150400Z
LAST-MODIFIED:20250903T163400Z
UID:20250908T115000-84035@law.utexas.edu
SUMMARY:National Security Law and Emerging Tech
DESCRIPTION:<p>On Monday, September 8, the Strauss Center for International Security and Law’s Director Adam Klein will discuss career opportunities, courses, and fellowships in national security law, cybersecurity, and technology with interested law students. Professor Klein will introduce the Strauss Center and its programs and will answer students’ questions in an informal format. Dean Bobby Chesney will also discuss opportunities for students. </p>
  <p>Lunch will be served. </p>\n\nIf you need an accommodation to participate in this event, please contact the event sponsor or the Texas Law Special Events Office at specialevents@law.utexas.edu no later than seven business days prior to the event.
X-ALT-DESC;FMTTYPE=text/html:<p>On Monday, September 8, the Strauss Center for International Security and Law’s Director Adam Klein will discuss career opportunities, courses, and fellowships in national security law, cybersecurity, and technology with interested law students. Professor Klein will introduce the Strauss Center and its programs and will answer students’ questions in an informal format. Dean Bobby Chesney will also discuss opportunities for students. </p>
  <p>Lunch will be served. </p><p>If you need an accommodation to participate in this event, please contact the event
                                          event sponsor or the Texas Law Special Events Office at <a href="mailto:specialevents@law.utexas.edu">specialevents@law.utexas.edu</a> no later than seven business days prior to the event.</p>
CATEGORIES:Lunch
LOCATION:TNH 2.123 - Beck Classroom
URL:http://law.utexas.edu/calendar/2025/09/08/84035/
CLASS:PUBLIC
STATUS:CONFIRMED
COMMENT:info@strausscenter.org
END:VEVENT
END:VCALENDAR