BEGIN:VCALENDAR
VERSION:2.0
PRODID:-//UNIVERSITY OF TEXAS SCHOOL OF LAW//NONSGML Events Calendar v1.0//EN
X-WR-TIMEZONE:America/Chicago
BEGIN:VTIMEZONE
TZID:US/Central
X-LIC-LOCATION:America/Chicago
BEGIN:DAYLIGHT
TZOFFSETFROM:-0600
TZOFFSETTO:-0500
TZNAME:CDT
DTSTART:19700308T020000
RRULE:FREQ=YEARLY;BYMONTH=3;BYDAY=2SU
END:DAYLIGHT
BEGIN:STANDARD
TZOFFSETFROM:-0500
TZOFFSETTO:-0600
TZNAME:CST
DTSTART:19701101T020000
RRULE:FREQ=YEARLY;BYMONTH=11;BYDAY=1SU
END:STANDARD
END:VTIMEZONE
BEGIN:VEVENT
DTSTART;TZID=US/Central:20250915T115000
DTEND;VALUE=DATE-TIME;TZID=US/Central:20250915T125000

DTSTAMP:20260419T124400Z
CREATED:20250902T042600Z
LAST-MODIFIED:20250902T193500Z
UID:20250915T115000-84095@law.utexas.edu
SUMMARY:WLC x Simpson Thacher Lunch
DESCRIPTION:<p>Join the Women’s Law Caucus for a special lunch event with Simpson Thacher &amp; Bartlett LLP, where attorneys will introduce the world of corporate law and share insights into their practice. This is a great opportunity to learn more about the field, ask questions, and connect with practicing attorneys in a casual setting.</p>
  <p>🍴 Lunch will be provided to those who RSVP.
  📅 RSVP through the link in our weekly newsletter.
  📧 Questions? Email us at womenslawcaucusaustin@gmail.com</p>\n\nIf you need an accommodation to participate in this event, please contact the event sponsor or the Texas Law Special Events Office at specialevents@law.utexas.edu no later than seven business days prior to the event.
X-ALT-DESC;FMTTYPE=text/html:<p>Join the Women’s Law Caucus for a special lunch event with Simpson Thacher &amp; Bartlett LLP, where attorneys will introduce the world of corporate law and share insights into their practice. This is a great opportunity to learn more about the field, ask questions, and connect with practicing attorneys in a casual setting.</p>
  <p>🍴 Lunch will be provided to those who RSVP.
  📅 RSVP through the link in our weekly newsletter.
  📧 Questions? Email us at womenslawcaucusaustin@gmail.com</p><p>If you need an accommodation to participate in this event, please contact the event
                                          event sponsor or the Texas Law Special Events Office at <a href="mailto:specialevents@law.utexas.edu">specialevents@law.utexas.edu</a> no later than seven business days prior to the event.</p>
CATEGORIES:Lunch
LOCATION:TNH 2.137 - Gayle Classroom
URL:http://law.utexas.edu/calendar/2025/09/15/84095/
CLASS:PUBLIC
STATUS:CONFIRMED

END:VEVENT
END:VCALENDAR