BEGIN:VCALENDAR
VERSION:2.0
PRODID:-//UNIVERSITY OF TEXAS SCHOOL OF LAW//NONSGML Events Calendar v1.0//EN
X-WR-TIMEZONE:America/Chicago
BEGIN:VTIMEZONE
TZID:US/Central
X-LIC-LOCATION:America/Chicago
BEGIN:DAYLIGHT
TZOFFSETFROM:-0600
TZOFFSETTO:-0500
TZNAME:CDT
DTSTART:19700308T020000
RRULE:FREQ=YEARLY;BYMONTH=3;BYDAY=2SU
END:DAYLIGHT
BEGIN:STANDARD
TZOFFSETFROM:-0500
TZOFFSETTO:-0600
TZNAME:CST
DTSTART:19701101T020000
RRULE:FREQ=YEARLY;BYMONTH=11;BYDAY=1SU
END:STANDARD
END:VTIMEZONE
BEGIN:VEVENT
DTSTART;TZID=US/Central:20250916T113000
DTEND;VALUE=DATE-TIME;TZID=US/Central:20250916T133000

DTSTAMP:20260419T135500Z
CREATED:20250813T140400Z
LAST-MODIFIED:20250813T140400Z
UID:20250916T113000-83534@law.utexas.edu
SUMMARY:LibraryFest 2025!
DESCRIPTION:<p>Celebrate LibraryFest with your librarians and fellow students! Come enjoy treats and get some Tarlton swag, including your Baby Bevo (while supplies last)!</p>
  <p>Tarlton is throwing open its doors for Texas Law students to learn more about our services and collection. You’ll get to see various materials we have and chat with different librarians about the resources at your disposal.</p>
  <p>Stop by the library anytime between 11:30am and 1:30pm on Tuesday, September 16. We hope to see you!</p>\n\nIf you need an accommodation to participate in this event, please contact the event sponsor or the Texas Law Special Events Office at specialevents@law.utexas.edu no later than seven business days prior to the event.
X-ALT-DESC;FMTTYPE=text/html:<p>Celebrate LibraryFest with your librarians and fellow students! Come enjoy treats and get some Tarlton swag, including your Baby Bevo (while supplies last)!</p>
  <p>Tarlton is throwing open its doors for Texas Law students to learn more about our services and collection. You’ll get to see various materials we have and chat with different librarians about the resources at your disposal.</p>
  <p>Stop by the library anytime between 11:30am and 1:30pm on Tuesday, September 16. We hope to see you!</p><p>If you need an accommodation to participate in this event, please contact the event
                                          event sponsor or the Texas Law Special Events Office at <a href="mailto:specialevents@law.utexas.edu">specialevents@law.utexas.edu</a> no later than seven business days prior to the event.</p>
CATEGORIES:Other
LOCATION:Tarlton Law Library
URL:http://law.utexas.edu/calendar/2025/09/16/83534/
CLASS:PUBLIC
STATUS:CONFIRMED

END:VEVENT
END:VCALENDAR