BEGIN:VCALENDAR
VERSION:2.0
PRODID:-//UNIVERSITY OF TEXAS SCHOOL OF LAW//NONSGML Events Calendar v1.0//EN
X-WR-TIMEZONE:America/Chicago
BEGIN:VTIMEZONE
TZID:US/Central
X-LIC-LOCATION:America/Chicago
BEGIN:DAYLIGHT
TZOFFSETFROM:-0600
TZOFFSETTO:-0500
TZNAME:CDT
DTSTART:19700308T020000
RRULE:FREQ=YEARLY;BYMONTH=3;BYDAY=2SU
END:DAYLIGHT
BEGIN:STANDARD
TZOFFSETFROM:-0500
TZOFFSETTO:-0600
TZNAME:CST
DTSTART:19701101T020000
RRULE:FREQ=YEARLY;BYMONTH=11;BYDAY=1SU
END:STANDARD
END:VTIMEZONE
BEGIN:VEVENT
DTSTART;TZID=US/Central:20250922T115000
DTEND;VALUE=DATE-TIME;TZID=US/Central:20250922T125000

DTSTAMP:20260419T133100Z
CREATED:20250813T204600Z
LAST-MODIFIED:20250917T180100Z
UID:20250922T115000-83764@law.utexas.edu
SUMMARY:CANCELED: ACS Presents: Birthright Citizenship
DESCRIPTION:<p>Join Texas Law’s chapter of the American Constitution Society for an engaging conversation on birthright citizenship. Texas Law professors will explore the constitutional foundations, historical context, and contemporary debates surrounding the Fourteenth Amendment’s Citizenship Clause. This event offers an opportunity to deepen your understanding of one of the most important and timely issues in constitutional law.</p>\n\nIf you need an accommodation to participate in this event, please contact the event sponsor or the Texas Law Special Events Office at specialevents@law.utexas.edu no later than seven business days prior to the event.
X-ALT-DESC;FMTTYPE=text/html:<p>Join Texas Law’s chapter of the American Constitution Society for an engaging conversation on birthright citizenship. Texas Law professors will explore the constitutional foundations, historical context, and contemporary debates surrounding the Fourteenth Amendment’s Citizenship Clause. This event offers an opportunity to deepen your understanding of one of the most important and timely issues in constitutional law.</p><p>If you need an accommodation to participate in this event, please contact the event
                                          event sponsor or the Texas Law Special Events Office at <a href="mailto:specialevents@law.utexas.edu">specialevents@law.utexas.edu</a> no later than seven business days prior to the event.</p>
CATEGORIES:Panel Discussion / Speaker Series
LOCATION:TNH 2.140 - Wright Classroom
URL:http://law.utexas.edu/calendar/2025/09/22/83764/
CLASS:PUBLIC
STATUS:CANCELLED

END:VEVENT
END:VCALENDAR