BEGIN:VCALENDAR
VERSION:2.0
PRODID:-//UNIVERSITY OF TEXAS SCHOOL OF LAW//NONSGML Events Calendar v1.0//EN
X-WR-TIMEZONE:America/Chicago
BEGIN:VTIMEZONE
TZID:US/Central
X-LIC-LOCATION:America/Chicago
BEGIN:DAYLIGHT
TZOFFSETFROM:-0600
TZOFFSETTO:-0500
TZNAME:CDT
DTSTART:19700308T020000
RRULE:FREQ=YEARLY;BYMONTH=3;BYDAY=2SU
END:DAYLIGHT
BEGIN:STANDARD
TZOFFSETFROM:-0500
TZOFFSETTO:-0600
TZNAME:CST
DTSTART:19701101T020000
RRULE:FREQ=YEARLY;BYMONTH=11;BYDAY=1SU
END:STANDARD
END:VTIMEZONE
BEGIN:VEVENT
DTSTART;TZID=US/Central:20250924T120000
DTEND;VALUE=DATE-TIME;TZID=US/Central:20250924T125000

DTSTAMP:20260419T181800Z
CREATED:20250908T132200Z
LAST-MODIFIED:20250908T182600Z
UID:20250924T120000-84175@law.utexas.edu
SUMMARY:Gerrymandering in 2025
DESCRIPTION:<p>Join us for a discussion of efforts by the Texas state legislature to further gerrymander House electoral districts, featuring lawyers involved in ongoing redistricting litigation in Texas and moderated by Professor Joshua Sellers. The event will take place in TNH 2.139 from 12:00 to 12:50. Lunch will be provided.</p>\n\nIf you need an accommodation to participate in this event, please contact the event sponsor or the Texas Law Special Events Office at specialevents@law.utexas.edu no later than seven business days prior to the event.
X-ALT-DESC;FMTTYPE=text/html:<p>Join us for a discussion of efforts by the Texas state legislature to further gerrymander House electoral districts, featuring lawyers involved in ongoing redistricting litigation in Texas and moderated by Professor Joshua Sellers. The event will take place in TNH 2.139 from 12:00 to 12:50. Lunch will be provided.</p><p>If you need an accommodation to participate in this event, please contact the event
                                          event sponsor or the Texas Law Special Events Office at <a href="mailto:specialevents@law.utexas.edu">specialevents@law.utexas.edu</a> no later than seven business days prior to the event.</p>
CATEGORIES:Lunch
LOCATION:TNH 2.139 - Wilson Classroom
URL:http://law.utexas.edu/calendar/2025/09/24/84175/
CLASS:PUBLIC
STATUS:CONFIRMED

END:VEVENT
END:VCALENDAR