BEGIN:VCALENDAR
VERSION:2.0
PRODID:-//UNIVERSITY OF TEXAS SCHOOL OF LAW//NONSGML Events Calendar v1.0//EN
X-WR-TIMEZONE:America/Chicago
BEGIN:VTIMEZONE
TZID:US/Central
X-LIC-LOCATION:America/Chicago
BEGIN:DAYLIGHT
TZOFFSETFROM:-0600
TZOFFSETTO:-0500
TZNAME:CDT
DTSTART:19700308T020000
RRULE:FREQ=YEARLY;BYMONTH=3;BYDAY=2SU
END:DAYLIGHT
BEGIN:STANDARD
TZOFFSETFROM:-0500
TZOFFSETTO:-0600
TZNAME:CST
DTSTART:19701101T020000
RRULE:FREQ=YEARLY;BYMONTH=11;BYDAY=1SU
END:STANDARD
END:VTIMEZONE
BEGIN:VEVENT
DTSTART;TZID=US/Central:20250925T080000


DTSTAMP:20260419T171900Z
CREATED:20250919T131700Z
LAST-MODIFIED:20250919T131700Z
UID:20250925T080000-84306@law.utexas.edu
SUMMARY:Human Rights Jobs Info Session and Panel
DESCRIPTION:<p>Please join the Rapoport Center for Human Rights and Justice on Thursday, September 25, at 8AM for a breakfast info session and panel discussion on accessing human rights and global justice professional opportunities. Faculty and Rapoport Center staff will be on hand to share resources and advice for students interested in human rights careers. Texas Law students who received human rights placements last summer will share insights on finding summer job opportunities, securing funding, and developing the skills needed to pursue a career in human rights. </p>
  <p>The event will be held in TNH 3.124 of the Law School.</p>
  <p>Please RSVP at <a href="https://utexas.qualtrics.com/jfe/form/SV_3k5wrIfsiU3i2P4">https://utexas.qualtrics.com/jfe/form/SV_3k5wrIfsiU3i2P4</a></p>\n\nIf you need an accommodation to participate in this event, please contact the event sponsor or the Texas Law Special Events Office at specialevents@law.utexas.edu no later than seven business days prior to the event.
X-ALT-DESC;FMTTYPE=text/html:<p>Please join the Rapoport Center for Human Rights and Justice on Thursday, September 25, at 8AM for a breakfast info session and panel discussion on accessing human rights and global justice professional opportunities. Faculty and Rapoport Center staff will be on hand to share resources and advice for students interested in human rights careers. Texas Law students who received human rights placements last summer will share insights on finding summer job opportunities, securing funding, and developing the skills needed to pursue a career in human rights. </p>
  <p>The event will be held in TNH 3.124 of the Law School.</p>
  <p>Please RSVP at <a href="https://utexas.qualtrics.com/jfe/form/SV_3k5wrIfsiU3i2P4">https://utexas.qualtrics.com/jfe/form/SV_3k5wrIfsiU3i2P4</a></p><p>If you need an accommodation to participate in this event, please contact the event
                                          event sponsor or the Texas Law Special Events Office at <a href="mailto:specialevents@law.utexas.edu">specialevents@law.utexas.edu</a> no later than seven business days prior to the event.</p>

LOCATION:TNH 3.124 - Neathery Classroom
URL:http://law.utexas.edu/calendar/2025/09/25/84306/
CLASS:PUBLIC
STATUS:CONFIRMED

END:VEVENT
END:VCALENDAR