BEGIN:VCALENDAR
VERSION:2.0
PRODID:-//UNIVERSITY OF TEXAS SCHOOL OF LAW//NONSGML Events Calendar v1.0//EN
X-WR-TIMEZONE:America/Chicago
BEGIN:VTIMEZONE
TZID:US/Central
X-LIC-LOCATION:America/Chicago
BEGIN:DAYLIGHT
TZOFFSETFROM:-0600
TZOFFSETTO:-0500
TZNAME:CDT
DTSTART:19700308T020000
RRULE:FREQ=YEARLY;BYMONTH=3;BYDAY=2SU
END:DAYLIGHT
BEGIN:STANDARD
TZOFFSETFROM:-0500
TZOFFSETTO:-0600
TZNAME:CST
DTSTART:19701101T020000
RRULE:FREQ=YEARLY;BYMONTH=11;BYDAY=1SU
END:STANDARD
END:VTIMEZONE
BEGIN:VEVENT
DTSTART;TZID=US/Central:20250925T115000
DTEND;VALUE=DATE-TIME;TZID=US/Central:20250925T125000

DTSTAMP:20260419T120000Z
CREATED:20250919T190200Z
LAST-MODIFIED:20250919T211700Z
UID:20250925T115000-84337@law.utexas.edu
SUMMARY:Alternative Curriculum: Property
DESCRIPTION:<p>Join Law Students for Black Lives with Professors Heather Way and Kevin Haynes for an important conversation on the role of race in property law, focusing on the history and present-day realities of heirs' property. This form of ownership, where land is passed down informally through generations without a will, has disproportionately affected Black families in the United States, contributing to land loss, economic instability, and barriers to building generational wealth.</p>
  <p>The discussion will highlight how law both shapes and reflects racial inequities in property rights, and why heirs' property remains a pressing issue in the pursuit of justice.</p>\n\nIf you need an accommodation to participate in this event, please contact the event sponsor or the Texas Law Special Events Office at specialevents@law.utexas.edu no later than seven business days prior to the event.
X-ALT-DESC;FMTTYPE=text/html:<p>Join Law Students for Black Lives with Professors Heather Way and Kevin Haynes for an important conversation on the role of race in property law, focusing on the history and present-day realities of heirs' property. This form of ownership, where land is passed down informally through generations without a will, has disproportionately affected Black families in the United States, contributing to land loss, economic instability, and barriers to building generational wealth.</p>
  <p>The discussion will highlight how law both shapes and reflects racial inequities in property rights, and why heirs' property remains a pressing issue in the pursuit of justice.</p><p>If you need an accommodation to participate in this event, please contact the event
                                          event sponsor or the Texas Law Special Events Office at <a href="mailto:specialevents@law.utexas.edu">specialevents@law.utexas.edu</a> no later than seven business days prior to the event.</p>
CATEGORIES:Lunch
LOCATION:TNH 2.139 - Wilson Classroom
URL:http://law.utexas.edu/calendar/2025/09/25/84337/
CLASS:PUBLIC
STATUS:CONFIRMED

END:VEVENT
END:VCALENDAR