BEGIN:VCALENDAR
VERSION:2.0
PRODID:-//UNIVERSITY OF TEXAS SCHOOL OF LAW//NONSGML Events Calendar v1.0//EN
X-WR-TIMEZONE:America/Chicago
BEGIN:VTIMEZONE
TZID:US/Central
X-LIC-LOCATION:America/Chicago
BEGIN:DAYLIGHT
TZOFFSETFROM:-0600
TZOFFSETTO:-0500
TZNAME:CDT
DTSTART:19700308T020000
RRULE:FREQ=YEARLY;BYMONTH=3;BYDAY=2SU
END:DAYLIGHT
BEGIN:STANDARD
TZOFFSETFROM:-0500
TZOFFSETTO:-0600
TZNAME:CST
DTSTART:19701101T020000
RRULE:FREQ=YEARLY;BYMONTH=11;BYDAY=1SU
END:STANDARD
END:VTIMEZONE
BEGIN:VEVENT
DTSTART;TZID=US/Central:20250929T115000
DTEND;VALUE=DATE-TIME;TZID=US/Central:20250929T125000

DTSTAMP:20260419T155400Z
CREATED:20250917T174700Z
LAST-MODIFIED:20250917T193400Z
UID:20250929T115000-84301@law.utexas.edu
SUMMARY:Do Your Best to Impress with Bloomberg
DESCRIPTION:<p>Bloomberg Law is sponsoring an event with the Sports and Entertainment Law Society to teach students how to utilize Bloomberg Law to network with attorneys more efficiently. Students will learn how to use Dockets and Company Analytics.</p>\n\nIf you need an accommodation to participate in this event, please contact the event sponsor or the Texas Law Special Events Office at specialevents@law.utexas.edu no later than seven business days prior to the event.
X-ALT-DESC;FMTTYPE=text/html:<p>Bloomberg Law is sponsoring an event with the Sports and Entertainment Law Society to teach students how to utilize Bloomberg Law to network with attorneys more efficiently. Students will learn how to use Dockets and Company Analytics.</p><p>If you need an accommodation to participate in this event, please contact the event
                                          event sponsor or the Texas Law Special Events Office at <a href="mailto:specialevents@law.utexas.edu">specialevents@law.utexas.edu</a> no later than seven business days prior to the event.</p>

LOCATION:TNH 3.124 - Neathery Classroom
URL:http://law.utexas.edu/calendar/2025/09/29/84301/
CLASS:PUBLIC
STATUS:CONFIRMED

END:VEVENT
END:VCALENDAR