BEGIN:VCALENDAR
VERSION:2.0
PRODID:-//UNIVERSITY OF TEXAS SCHOOL OF LAW//NONSGML Events Calendar v1.0//EN
X-WR-TIMEZONE:America/Chicago
BEGIN:VTIMEZONE
TZID:US/Central
X-LIC-LOCATION:America/Chicago
BEGIN:DAYLIGHT
TZOFFSETFROM:-0600
TZOFFSETTO:-0500
TZNAME:CDT
DTSTART:19700308T020000
RRULE:FREQ=YEARLY;BYMONTH=3;BYDAY=2SU
END:DAYLIGHT
BEGIN:STANDARD
TZOFFSETFROM:-0500
TZOFFSETTO:-0600
TZNAME:CST
DTSTART:19701101T020000
RRULE:FREQ=YEARLY;BYMONTH=11;BYDAY=1SU
END:STANDARD
END:VTIMEZONE
BEGIN:VEVENT
DTSTART;TZID=US/Central:20250930T160000
DTEND;VALUE=DATE-TIME;TZID=US/Central:20250930T173000

DTSTAMP:20260419T172000Z
CREATED:20250909T162600Z
LAST-MODIFIED:20250909T162600Z
UID:20250930T160000-84204@law.utexas.edu
SUMMARY:AI Speaker Series
DESCRIPTION:<p>Tanner studied Politics, Philosophy, Economics, and Classical studies at Dartmouth, graduating in 2023. Previously, he was the CEO and co-founder of Downballot Solutions, managing local level political campaigns in seven states across two election cycles. After college, Tanner was the Technology Policy Director and Regulatory Policy Fellow at the Cicero Institute, contributing to legislative reforms in 30 states. Outside of Vulcan, Tanner is involved in the high school speech and debate community, where he was the 2018 national runner-up and coached the 2021 national champion. Tanner also holds powerlifting records in two states and qualified to the IPL world championships.</p>\n\nIf you need an accommodation to participate in this event, please contact the event sponsor or the Texas Law Special Events Office at specialevents@law.utexas.edu no later than seven business days prior to the event.
X-ALT-DESC;FMTTYPE=text/html:<p>Tanner studied Politics, Philosophy, Economics, and Classical studies at Dartmouth, graduating in 2023. Previously, he was the CEO and co-founder of Downballot Solutions, managing local level political campaigns in seven states across two election cycles. After college, Tanner was the Technology Policy Director and Regulatory Policy Fellow at the Cicero Institute, contributing to legislative reforms in 30 states. Outside of Vulcan, Tanner is involved in the high school speech and debate community, where he was the 2018 national runner-up and coached the 2021 national champion. Tanner also holds powerlifting records in two states and qualified to the IPL world championships.</p><p>If you need an accommodation to participate in this event, please contact the event
                                          event sponsor or the Texas Law Special Events Office at <a href="mailto:specialevents@law.utexas.edu">specialevents@law.utexas.edu</a> no later than seven business days prior to the event.</p>
CATEGORIES:Panel Discussion / Speaker Series
LOCATION:TNH 2.111 - Sheffield-Massey Room
URL:http://law.utexas.edu/calendar/2025/09/30/84204/
CLASS:PUBLIC
STATUS:CONFIRMED
COMMENT:https://docs.google.com/forms/d/e/1FAIpQLScyDPhbyDadjquL_3JknPf_PgPaMVo1f5C6d1Pp9e2i0ZonpQ/viewform
END:VEVENT
END:VCALENDAR