BEGIN:VCALENDAR
VERSION:2.0
PRODID:-//UNIVERSITY OF TEXAS SCHOOL OF LAW//NONSGML Events Calendar v1.0//EN
X-WR-TIMEZONE:America/Chicago
BEGIN:VTIMEZONE
TZID:US/Central
X-LIC-LOCATION:America/Chicago
BEGIN:DAYLIGHT
TZOFFSETFROM:-0600
TZOFFSETTO:-0500
TZNAME:CDT
DTSTART:19700308T020000
RRULE:FREQ=YEARLY;BYMONTH=3;BYDAY=2SU
END:DAYLIGHT
BEGIN:STANDARD
TZOFFSETFROM:-0500
TZOFFSETTO:-0600
TZNAME:CST
DTSTART:19701101T020000
RRULE:FREQ=YEARLY;BYMONTH=11;BYDAY=1SU
END:STANDARD
END:VTIMEZONE
BEGIN:VEVENT
DTSTART;TZID=US/Central:20251001T115000
DTEND;VALUE=DATE-TIME;TZID=US/Central:20251001T125000

DTSTAMP:20260419T202000Z
CREATED:20250813T205000Z
LAST-MODIFIED:20250925T150800Z
UID:20251001T115000-83765@law.utexas.edu
SUMMARY:ACS Presents: "History and Tradition"
DESCRIPTION:<p>Join Texas Law’s chapter of the American Constitution Society for a thought-provoking discussion on the role of “history and tradition” in constitutional interpretation. Professors Sellers, Forbath, and Zhang will examine how courts have invoked this concept, its roots in legal theory, and its influence on recent Supreme Court decisions. This event will offer valuable insight into a doctrine shaping today’s constitutional debates.</p>\n\nIf you need an accommodation to participate in this event, please contact the event sponsor or the Texas Law Special Events Office at specialevents@law.utexas.edu no later than seven business days prior to the event.
X-ALT-DESC;FMTTYPE=text/html:<p>Join Texas Law’s chapter of the American Constitution Society for a thought-provoking discussion on the role of “history and tradition” in constitutional interpretation. Professors Sellers, Forbath, and Zhang will examine how courts have invoked this concept, its roots in legal theory, and its influence on recent Supreme Court decisions. This event will offer valuable insight into a doctrine shaping today’s constitutional debates.</p><p>If you need an accommodation to participate in this event, please contact the event
                                          event sponsor or the Texas Law Special Events Office at <a href="mailto:specialevents@law.utexas.edu">specialevents@law.utexas.edu</a> no later than seven business days prior to the event.</p>
CATEGORIES:Panel Discussion / Speaker Series
LOCATION:TNH 2.140 - Wright Classroom
URL:http://law.utexas.edu/calendar/2025/10/01/83765/
CLASS:PUBLIC
STATUS:CONFIRMED

END:VEVENT
END:VCALENDAR