BEGIN:VCALENDAR
VERSION:2.0
PRODID:-//UNIVERSITY OF TEXAS SCHOOL OF LAW//NONSGML Events Calendar v1.0//EN
X-WR-TIMEZONE:America/Chicago
BEGIN:VTIMEZONE
TZID:US/Central
X-LIC-LOCATION:America/Chicago
BEGIN:DAYLIGHT
TZOFFSETFROM:-0600
TZOFFSETTO:-0500
TZNAME:CDT
DTSTART:19700308T020000
RRULE:FREQ=YEARLY;BYMONTH=3;BYDAY=2SU
END:DAYLIGHT
BEGIN:STANDARD
TZOFFSETFROM:-0500
TZOFFSETTO:-0600
TZNAME:CST
DTSTART:19701101T020000
RRULE:FREQ=YEARLY;BYMONTH=11;BYDAY=1SU
END:STANDARD
END:VTIMEZONE
BEGIN:VEVENT
DTSTART;TZID=US/Central:20251001T115000
DTEND;VALUE=DATE-TIME;TZID=US/Central:20251001T125000

DTSTAMP:20260419T163400Z
CREATED:20250823T034200Z
LAST-MODIFIED:20250824T215900Z
UID:20251001T115000-83906@law.utexas.edu
SUMMARY:WLC Public Interest Roundtable
DESCRIPTION:<p>Join the Women’s Law Caucus for a luncheon and roundtable discussion on public interest law. Hear from fellow students about their summer experiences, exchange insights, and connect over a shared commitment to serving the public. There will be a Q&amp;A portion to get any and all of your public interest questions answered from students who have been in your shoes! Please fill out the RSVP form to make sure you receive lunch.</p>
  <p> <a href="https://docs.google.com/forms/d/e/1FAIpQLSdjlX-ds_z2WfF0lOFT_Hf0EZuTB-Xh1XflKcUO3hpKHnkuSA/viewform?usp=header">https://docs.google.com/forms/d/e/1FAIpQLSdjlX-ds_z2WfF0lOFT_Hf0EZuTB-Xh1XflKcUO3hpKHnkuSA/viewform?usp=header</a> </p>\n\nIf you need an accommodation to participate in this event, please contact the event sponsor or the Texas Law Special Events Office at specialevents@law.utexas.edu no later than seven business days prior to the event.
X-ALT-DESC;FMTTYPE=text/html:<p>Join the Women’s Law Caucus for a luncheon and roundtable discussion on public interest law. Hear from fellow students about their summer experiences, exchange insights, and connect over a shared commitment to serving the public. There will be a Q&amp;A portion to get any and all of your public interest questions answered from students who have been in your shoes! Please fill out the RSVP form to make sure you receive lunch.</p>
  <p> <a href="https://docs.google.com/forms/d/e/1FAIpQLSdjlX-ds_z2WfF0lOFT_Hf0EZuTB-Xh1XflKcUO3hpKHnkuSA/viewform?usp=header">https://docs.google.com/forms/d/e/1FAIpQLSdjlX-ds_z2WfF0lOFT_Hf0EZuTB-Xh1XflKcUO3hpKHnkuSA/viewform?usp=header</a> </p><p>If you need an accommodation to participate in this event, please contact the event
                                          event sponsor or the Texas Law Special Events Office at <a href="mailto:specialevents@law.utexas.edu">specialevents@law.utexas.edu</a> no later than seven business days prior to the event.</p>
CATEGORIES:Lunch
LOCATION:TNH 2.123 - Beck Classroom
URL:http://law.utexas.edu/calendar/2025/10/01/83906/
CLASS:PUBLIC
STATUS:CONFIRMED

END:VEVENT
END:VCALENDAR