BEGIN:VCALENDAR
VERSION:2.0
PRODID:-//UNIVERSITY OF TEXAS SCHOOL OF LAW//NONSGML Events Calendar v1.0//EN
X-WR-TIMEZONE:America/Chicago
BEGIN:VTIMEZONE
TZID:US/Central
X-LIC-LOCATION:America/Chicago
BEGIN:DAYLIGHT
TZOFFSETFROM:-0600
TZOFFSETTO:-0500
TZNAME:CDT
DTSTART:19700308T020000
RRULE:FREQ=YEARLY;BYMONTH=3;BYDAY=2SU
END:DAYLIGHT
BEGIN:STANDARD
TZOFFSETFROM:-0500
TZOFFSETTO:-0600
TZNAME:CST
DTSTART:19701101T020000
RRULE:FREQ=YEARLY;BYMONTH=11;BYDAY=1SU
END:STANDARD
END:VTIMEZONE
BEGIN:VEVENT
DTSTART;TZID=US/Central:20251001T121500
DTEND;VALUE=DATE-TIME;TZID=US/Central:20251001T133000

DTSTAMP:20260419T183800Z
CREATED:20250917T194300Z
LAST-MODIFIED:20250917T194300Z
UID:20251001T121500-84304@law.utexas.edu
SUMMARY:The Business of Diplomacy
DESCRIPTION:<p>On Wednesday, October 1, the Strauss Center will host Susan Moore, President of the Austin Council on Foreign Affairs, John Robinson, founder of the John L. Robinson Educational Fund, and Dilawar Syed, Associate Professor &amp; Senior Economic Policy Advisor at the LBJ School of Public Affairs for a discussion on, “The Business of Diplomacy: International Operations, Defense Contractors, and Today’s U.S. Foreign Service.” This event will be moderated by Ambassador (Ret.) Larry André, Professor of Practice at the LBJ School of Public Affairs.</p>
  <p>This conversation will first set the scene by explaining the role of commercial and business diplomacy in U.S. foreign policy, then will dive into the subject’s complexities and implementation across embassies and consulates around the world. Panelists will share their expertise and anecdotes on key initiatives in this field from across U.S. administrations, the role of the U.S. Department of State and defense contractors in this form of international diplomacy, and how defense offsets have been – and can be – used to achieve diplomacy goals on some of foreign policy’s most complex issues. The panelists will also discuss the evolving nature of the U.S. Foreign Service and opportunities for students to get involved in this type of work after graduation on the Forty Acres.</p>
  <p>This event is free and open to the public, welcoming UT Austin students, faculty and staff, and members of the local community. Garage parking is available for a fee at Manor Garage and San Jacinto Garage, and parking will not be validated. Lunch will be provided for attendees.</p>
  <p>For any questions about this event, contact info@strausscenter.org.</p>\n\nIf you need an accommodation to participate in this event, please contact the event sponsor or the Texas Law Special Events Office at specialevents@law.utexas.edu no later than seven business days prior to the event.
X-ALT-DESC;FMTTYPE=text/html:<p>On Wednesday, October 1, the Strauss Center will host Susan Moore, President of the Austin Council on Foreign Affairs, John Robinson, founder of the John L. Robinson Educational Fund, and Dilawar Syed, Associate Professor &amp; Senior Economic Policy Advisor at the LBJ School of Public Affairs for a discussion on, “The Business of Diplomacy: International Operations, Defense Contractors, and Today’s U.S. Foreign Service.” This event will be moderated by Ambassador (Ret.) Larry André, Professor of Practice at the LBJ School of Public Affairs.</p>
  <p>This conversation will first set the scene by explaining the role of commercial and business diplomacy in U.S. foreign policy, then will dive into the subject’s complexities and implementation across embassies and consulates around the world. Panelists will share their expertise and anecdotes on key initiatives in this field from across U.S. administrations, the role of the U.S. Department of State and defense contractors in this form of international diplomacy, and how defense offsets have been – and can be – used to achieve diplomacy goals on some of foreign policy’s most complex issues. The panelists will also discuss the evolving nature of the U.S. Foreign Service and opportunities for students to get involved in this type of work after graduation on the Forty Acres.</p>
  <p>This event is free and open to the public, welcoming UT Austin students, faculty and staff, and members of the local community. Garage parking is available for a fee at Manor Garage and San Jacinto Garage, and parking will not be validated. Lunch will be provided for attendees.</p>
  <p>For any questions about this event, contact info@strausscenter.org.</p><p>If you need an accommodation to participate in this event, please contact the event
                                          event sponsor or the Texas Law Special Events Office at <a href="mailto:specialevents@law.utexas.edu">specialevents@law.utexas.edu</a> no later than seven business days prior to the event.</p>
CATEGORIES:Panel Discussion / Speaker Series
LOCATION:SRH 3.122, LBJ School
URL:http://law.utexas.edu/calendar/2025/10/01/84304/
CLASS:PUBLIC
STATUS:CONFIRMED
COMMENT:Contact info@strausscenter.org
END:VEVENT
END:VCALENDAR