BEGIN:VCALENDAR
VERSION:2.0
PRODID:-//UNIVERSITY OF TEXAS SCHOOL OF LAW//NONSGML Events Calendar v1.0//EN
X-WR-TIMEZONE:America/Chicago
BEGIN:VTIMEZONE
TZID:US/Central
X-LIC-LOCATION:America/Chicago
BEGIN:DAYLIGHT
TZOFFSETFROM:-0600
TZOFFSETTO:-0500
TZNAME:CDT
DTSTART:19700308T020000
RRULE:FREQ=YEARLY;BYMONTH=3;BYDAY=2SU
END:DAYLIGHT
BEGIN:STANDARD
TZOFFSETFROM:-0500
TZOFFSETTO:-0600
TZNAME:CST
DTSTART:19701101T020000
RRULE:FREQ=YEARLY;BYMONTH=11;BYDAY=1SU
END:STANDARD
END:VTIMEZONE
BEGIN:VEVENT
DTSTART;TZID=US/Central:20251001T120000
DTEND;VALUE=DATE-TIME;TZID=US/Central:20251001T125000

DTSTAMP:20260419T181800Z
CREATED:20250925T170200Z
LAST-MODIFIED:20250929T200600Z
UID:20251001T120000-84445@law.utexas.edu
SUMMARY:Power Lunch with Amy M. Stewart
DESCRIPTION:<p>This course has been approved for Minimum Continuing Legal Education credit by the State Bar of Texas Committee on MCLE in the amount of 1.00 credit hours, of which 1.00 credit hours will apply to legal ethics/professional responsibility credit.</p>
  <p>Selected by Texas Lawyer in 2022 as one of the top three attorneys in Texas, Stewart is a distinguished trial attorney and the founder of the only minority and woman-owned business litigation defense firm in Dallas-Fort Worth. Stewart represents multiple Fortune 100 clients in commercial, employment/labor, and product liability matters. Stewart is also certified as an Arbitrator with the American Arbitration Association and presides over commercial, construction, and employment matters. In 2024, Stewart was elected Vice Chair of the American Bar Association’s Litigation Section, leading the nation’s largest association of litigators and trial attorneys. She is now serving as Chair Elect for 2025 to 2026. </p>
  <p>What sets Amy Stewart apart is her competitive drive and strategic thinking skills she garnered from her experience in the athletic world. She played college basketball at Wake Forest University and coached Division I basketball at her alma mater and Tulane University before shifting her focus to wins in the courtroom. </p>
  <p>During this one-hour conversation, Stewart will discuss her legal career, the decisions and challenges related to starting and maintaining her own law firm, and how her athletics and coaching background gives her an edge in zealously and respectfully representing her clients and working with opposing counsel. Stewart is a certified arbitrator and a distinguished neutral with the prestigious International Institute for Conflict Prevention and Resolution Panel of Distinguished Neutrals and will discuss the ethics of working on behalf of clients to resolve high stakes disputes. Stewart will also highlight how her work as a highly sought-after investigator who leads high-profile and sensitive ethics and workplace-related investigations benefits her client base.</p>\n\nIf you need an accommodation to participate in this event, please contact the event sponsor or the Texas Law Special Events Office at specialevents@law.utexas.edu no later than seven business days prior to the event.
X-ALT-DESC;FMTTYPE=text/html:<p>This course has been approved for Minimum Continuing Legal Education credit by the State Bar of Texas Committee on MCLE in the amount of 1.00 credit hours, of which 1.00 credit hours will apply to legal ethics/professional responsibility credit.</p>
  <p>Selected by Texas Lawyer in 2022 as one of the top three attorneys in Texas, Stewart is a distinguished trial attorney and the founder of the only minority and woman-owned business litigation defense firm in Dallas-Fort Worth. Stewart represents multiple Fortune 100 clients in commercial, employment/labor, and product liability matters. Stewart is also certified as an Arbitrator with the American Arbitration Association and presides over commercial, construction, and employment matters. In 2024, Stewart was elected Vice Chair of the American Bar Association’s Litigation Section, leading the nation’s largest association of litigators and trial attorneys. She is now serving as Chair Elect for 2025 to 2026. </p>
  <p>What sets Amy Stewart apart is her competitive drive and strategic thinking skills she garnered from her experience in the athletic world. She played college basketball at Wake Forest University and coached Division I basketball at her alma mater and Tulane University before shifting her focus to wins in the courtroom. </p>
  <p>During this one-hour conversation, Stewart will discuss her legal career, the decisions and challenges related to starting and maintaining her own law firm, and how her athletics and coaching background gives her an edge in zealously and respectfully representing her clients and working with opposing counsel. Stewart is a certified arbitrator and a distinguished neutral with the prestigious International Institute for Conflict Prevention and Resolution Panel of Distinguished Neutrals and will discuss the ethics of working on behalf of clients to resolve high stakes disputes. Stewart will also highlight how her work as a highly sought-after investigator who leads high-profile and sensitive ethics and workplace-related investigations benefits her client base.</p><p>If you need an accommodation to participate in this event, please contact the event
                                          event sponsor or the Texas Law Special Events Office at <a href="mailto:specialevents@law.utexas.edu">specialevents@law.utexas.edu</a> no later than seven business days prior to the event.</p>
CATEGORIES:Panel Discussion / Speaker Series
LOCATION:CCJ 2.306 - Eidman Courtroom
URL:http://law.utexas.edu/calendar/2025/10/01/84445/
CLASS:PUBLIC
STATUS:CONFIRMED

END:VEVENT
END:VCALENDAR