BEGIN:VCALENDAR
VERSION:2.0
PRODID:-//UNIVERSITY OF TEXAS SCHOOL OF LAW//NONSGML Events Calendar v1.0//EN
X-WR-TIMEZONE:America/Chicago
BEGIN:VTIMEZONE
TZID:US/Central
X-LIC-LOCATION:America/Chicago
BEGIN:DAYLIGHT
TZOFFSETFROM:-0600
TZOFFSETTO:-0500
TZNAME:CDT
DTSTART:19700308T020000
RRULE:FREQ=YEARLY;BYMONTH=3;BYDAY=2SU
END:DAYLIGHT
BEGIN:STANDARD
TZOFFSETFROM:-0500
TZOFFSETTO:-0600
TZNAME:CST
DTSTART:19701101T020000
RRULE:FREQ=YEARLY;BYMONTH=11;BYDAY=1SU
END:STANDARD
END:VTIMEZONE
BEGIN:VEVENT
DTSTART;TZID=US/Central:20251001T140000
DTEND;VALUE=DATE-TIME;TZID=US/Central:20251001T150000

DTSTAMP:20260419T171900Z
CREATED:20250925T175900Z
LAST-MODIFIED:20250928T211100Z
UID:20251001T140000-84446@law.utexas.edu
SUMMARY:Snack Break: Meet &amp; Greet with NRF
DESCRIPTION:<p>Meet &amp; Greet event with Norton Rose Fulbright attorneys and Mamaka Smoothie bowls. </p>\n\nIf you need an accommodation to participate in this event, please contact the event sponsor or the Texas Law Special Events Office at specialevents@law.utexas.edu no later than seven business days prior to the event.
X-ALT-DESC;FMTTYPE=text/html:<p>Meet &amp; Greet event with Norton Rose Fulbright attorneys and Mamaka Smoothie bowls. </p><p>If you need an accommodation to participate in this event, please contact the event
                                          event sponsor or the Texas Law Special Events Office at <a href="mailto:specialevents@law.utexas.edu">specialevents@law.utexas.edu</a> no later than seven business days prior to the event.</p>

LOCATION: PATMAN - Patman Family Plaza
URL:http://law.utexas.edu/calendar/2025/10/01/84446/
CLASS:PUBLIC
STATUS:CONFIRMED

END:VEVENT
END:VCALENDAR