BEGIN:VCALENDAR
VERSION:2.0
PRODID:-//UNIVERSITY OF TEXAS SCHOOL OF LAW//NONSGML Events Calendar v1.0//EN
X-WR-TIMEZONE:America/Chicago
BEGIN:VTIMEZONE
TZID:US/Central
X-LIC-LOCATION:America/Chicago
BEGIN:DAYLIGHT
TZOFFSETFROM:-0600
TZOFFSETTO:-0500
TZNAME:CDT
DTSTART:19700308T020000
RRULE:FREQ=YEARLY;BYMONTH=3;BYDAY=2SU
END:DAYLIGHT
BEGIN:STANDARD
TZOFFSETFROM:-0500
TZOFFSETTO:-0600
TZNAME:CST
DTSTART:19701101T020000
RRULE:FREQ=YEARLY;BYMONTH=11;BYDAY=1SU
END:STANDARD
END:VTIMEZONE
BEGIN:VEVENT
DTSTART;TZID=US/Central:20251002T115000
DTEND;VALUE=DATE-TIME;TZID=US/Central:20251002T125000

DTSTAMP:20260419T172000Z
CREATED:20250925T183100Z
LAST-MODIFIED:20250925T184100Z
UID:20251002T115000-84457@law.utexas.edu
SUMMARY:Careers in AI Student Discussion
DESCRIPTION:<p>Join us for a student career discussion with Brian Fuller, Product Policy Manager at OpenAI, focused on the evolving legal and policy challenges of emerging technology. Brian advises OpenAI’s product teams on privacy, safety, and security, drawing on over a decade of experience at Meta, where he worked on intellectual property, crisis management, and AI governance. A Baylor Law graduate, Brian will share insights on transitioning from traditional legal practice to the fast-paced world of tech, and how lawyers can shape responsible AI and technology policy. Lunch will be provided.</p>
  <p>Brian Fuller is a Product Policy Manager at OpenAI. In his role, he is broadly responsible for advising product teams on issues related to privacy, safety, and security. Before joining OpenAI, Brian spent nearly a dozen years at Meta working on issues related to intellectual property, crisis management, and AI governance. Brian graduated from Baylor Law School in 2012 and spent a few years working as an IP lawyer before jumping into the tech world. He lives down in Dripping Springs with his wife, kids, dog, and a flock of chickens.</p>
  <p>Please RSVP to Ganeev Kaur (ganeev.kaur@austin.utexas.edu) with any dietary restrictions.</p>\n\nIf you need an accommodation to participate in this event, please contact the event sponsor or the Texas Law Special Events Office at specialevents@law.utexas.edu no later than seven business days prior to the event.
X-ALT-DESC;FMTTYPE=text/html:<p>Join us for a student career discussion with Brian Fuller, Product Policy Manager at OpenAI, focused on the evolving legal and policy challenges of emerging technology. Brian advises OpenAI’s product teams on privacy, safety, and security, drawing on over a decade of experience at Meta, where he worked on intellectual property, crisis management, and AI governance. A Baylor Law graduate, Brian will share insights on transitioning from traditional legal practice to the fast-paced world of tech, and how lawyers can shape responsible AI and technology policy. Lunch will be provided.</p>
  <p>Brian Fuller is a Product Policy Manager at OpenAI. In his role, he is broadly responsible for advising product teams on issues related to privacy, safety, and security. Before joining OpenAI, Brian spent nearly a dozen years at Meta working on issues related to intellectual property, crisis management, and AI governance. Brian graduated from Baylor Law School in 2012 and spent a few years working as an IP lawyer before jumping into the tech world. He lives down in Dripping Springs with his wife, kids, dog, and a flock of chickens.</p>
  <p>Please RSVP to Ganeev Kaur (ganeev.kaur@austin.utexas.edu) with any dietary restrictions.</p><p>If you need an accommodation to participate in this event, please contact the event
                                          event sponsor or the Texas Law Special Events Office at <a href="mailto:specialevents@law.utexas.edu">specialevents@law.utexas.edu</a> no later than seven business days prior to the event.</p>
CATEGORIES:Lunch
LOCATION:CCJ 2.310 - Jury Room
URL:http://law.utexas.edu/calendar/2025/10/02/84457/
CLASS:PUBLIC
STATUS:CONFIRMED

END:VEVENT
END:VCALENDAR