BEGIN:VCALENDAR
VERSION:2.0
PRODID:-//UNIVERSITY OF TEXAS SCHOOL OF LAW//NONSGML Events Calendar v1.0//EN
X-WR-TIMEZONE:America/Chicago
BEGIN:VTIMEZONE
TZID:US/Central
X-LIC-LOCATION:America/Chicago
BEGIN:DAYLIGHT
TZOFFSETFROM:-0600
TZOFFSETTO:-0500
TZNAME:CDT
DTSTART:19700308T020000
RRULE:FREQ=YEARLY;BYMONTH=3;BYDAY=2SU
END:DAYLIGHT
BEGIN:STANDARD
TZOFFSETFROM:-0500
TZOFFSETTO:-0600
TZNAME:CST
DTSTART:19701101T020000
RRULE:FREQ=YEARLY;BYMONTH=11;BYDAY=1SU
END:STANDARD
END:VTIMEZONE
BEGIN:VEVENT
DTSTART;TZID=US/Central:20251003T160000
DTEND;VALUE=DATE-TIME;TZID=US/Central:20251003T180000

DTSTAMP:20260419T185900Z
CREATED:20250912T162300Z
LAST-MODIFIED:20250912T163500Z
UID:20251003T160000-84189@law.utexas.edu
SUMMARY:APALSA Mentor Pod Reveal
DESCRIPTION:<p>Join us to meet your mentor pod! We'll introduce you to your mentor and fellow mentees, test your pod's team spirit with some icebreaker activities, and take a fun evening off to bring our community together. Don't forget to apply for a pod via our membership form!</p>\n\nIf you need an accommodation to participate in this event, please contact the event sponsor or the Texas Law Special Events Office at specialevents@law.utexas.edu no later than seven business days prior to the event.
X-ALT-DESC;FMTTYPE=text/html:<p>Join us to meet your mentor pod! We'll introduce you to your mentor and fellow mentees, test your pod's team spirit with some icebreaker activities, and take a fun evening off to bring our community together. Don't forget to apply for a pod via our membership form!</p><p>If you need an accommodation to participate in this event, please contact the event
                                          event sponsor or the Texas Law Special Events Office at <a href="mailto:specialevents@law.utexas.edu">specialevents@law.utexas.edu</a> no later than seven business days prior to the event.</p>

LOCATION: GEORGES-PATIO - George’s Café Patio
URL:http://law.utexas.edu/calendar/2025/10/03/84189/
CLASS:PUBLIC
STATUS:CONFIRMED

END:VEVENT
END:VCALENDAR