BEGIN:VCALENDAR
VERSION:2.0
PRODID:-//UNIVERSITY OF TEXAS SCHOOL OF LAW//NONSGML Events Calendar v1.0//EN
X-WR-TIMEZONE:America/Chicago
BEGIN:VTIMEZONE
TZID:US/Central
X-LIC-LOCATION:America/Chicago
BEGIN:DAYLIGHT
TZOFFSETFROM:-0600
TZOFFSETTO:-0500
TZNAME:CDT
DTSTART:19700308T020000
RRULE:FREQ=YEARLY;BYMONTH=3;BYDAY=2SU
END:DAYLIGHT
BEGIN:STANDARD
TZOFFSETFROM:-0500
TZOFFSETTO:-0600
TZNAME:CST
DTSTART:19701101T020000
RRULE:FREQ=YEARLY;BYMONTH=11;BYDAY=1SU
END:STANDARD
END:VTIMEZONE
BEGIN:VEVENT
DTSTART;TZID=US/Central:20251006T120000
DTEND;VALUE=DATE-TIME;TZID=US/Central:20251006T131500

DTSTAMP:20260419T150600Z
CREATED:20250915T155500Z
LAST-MODIFIED:20250926T212500Z
UID:20251006T120000-84262@law.utexas.edu
SUMMARY:Texas Law Postgraduate Fellowships
DESCRIPTION:<p>Thinking about public interest work after graduation? Join us to learn more about Texas Law’s 2026 Postgraduate Fellowships. We’ll cover the application process, deadlines, and tips for preparing a strong application for the following fellowships: </p>
  <p>Environmental Justice Fellowship </p>
  <p>G. Rollie White Trust Fellowship in Public Interest Law </p>
  <p>Julius Glickman Fellowship in Public Interest Law </p>
  <p>Manne Family Fellowships </p>
  <p>Mike A. Myers Fellowship in Public Interest Law </p>
  <p>Texas Law Postgraduate Public Interest Fellowships </p>
  <p>Presenters: </p>
  <p>Nicole Simmons, Director, Justice Center </p>
  <p>Mary Murphy, Public Interest Career Counselor </p>
  <p>Kelly Haragan, Director, Environmental Law Clinic </p>
  <p>When: Monday, October 6, 2025, 12–1 p.m. 
  Where: TNH 3.124 </p>
  <p>RSVP for lunch by noon on Thursday, October 2: <a href="https://utexas.qualtrics.com/jfe/form/SV_3jTkqpz7vK7kuvY">https://utexas.qualtrics.com/jfe/form/SV_3jTkqpz7vK7kuvY</a></p>\n\nIf you need an accommodation to participate in this event, please contact the event sponsor or the Texas Law Special Events Office at specialevents@law.utexas.edu no later than seven business days prior to the event.
X-ALT-DESC;FMTTYPE=text/html:<p>Thinking about public interest work after graduation? Join us to learn more about Texas Law’s 2026 Postgraduate Fellowships. We’ll cover the application process, deadlines, and tips for preparing a strong application for the following fellowships: </p>
  <p>Environmental Justice Fellowship </p>
  <p>G. Rollie White Trust Fellowship in Public Interest Law </p>
  <p>Julius Glickman Fellowship in Public Interest Law </p>
  <p>Manne Family Fellowships </p>
  <p>Mike A. Myers Fellowship in Public Interest Law </p>
  <p>Texas Law Postgraduate Public Interest Fellowships </p>
  <p>Presenters: </p>
  <p>Nicole Simmons, Director, Justice Center </p>
  <p>Mary Murphy, Public Interest Career Counselor </p>
  <p>Kelly Haragan, Director, Environmental Law Clinic </p>
  <p>When: Monday, October 6, 2025, 12–1 p.m. 
  Where: TNH 3.124 </p>
  <p>RSVP for lunch by noon on Thursday, October 2: <a href="https://utexas.qualtrics.com/jfe/form/SV_3jTkqpz7vK7kuvY">https://utexas.qualtrics.com/jfe/form/SV_3jTkqpz7vK7kuvY</a></p><p>If you need an accommodation to participate in this event, please contact the event
                                          event sponsor or the Texas Law Special Events Office at <a href="mailto:specialevents@law.utexas.edu">specialevents@law.utexas.edu</a> no later than seven business days prior to the event.</p>

LOCATION:TNH 3.124 - Neathery Classroom
URL:http://law.utexas.edu/calendar/2025/10/06/84262/
CLASS:PUBLIC
STATUS:CONFIRMED

END:VEVENT
END:VCALENDAR