BEGIN:VCALENDAR
VERSION:2.0
PRODID:-//UNIVERSITY OF TEXAS SCHOOL OF LAW//NONSGML Events Calendar v1.0//EN
X-WR-TIMEZONE:America/Chicago
BEGIN:VTIMEZONE
TZID:US/Central
X-LIC-LOCATION:America/Chicago
BEGIN:DAYLIGHT
TZOFFSETFROM:-0600
TZOFFSETTO:-0500
TZNAME:CDT
DTSTART:19700308T020000
RRULE:FREQ=YEARLY;BYMONTH=3;BYDAY=2SU
END:DAYLIGHT
BEGIN:STANDARD
TZOFFSETFROM:-0500
TZOFFSETTO:-0600
TZNAME:CST
DTSTART:19701101T020000
RRULE:FREQ=YEARLY;BYMONTH=11;BYDAY=1SU
END:STANDARD
END:VTIMEZONE
BEGIN:VEVENT
DTSTART;TZID=US/Central:20251006T115000
DTEND;VALUE=DATE-TIME;TZID=US/Central:20251006T125000

DTSTAMP:20260419T173600Z
CREATED:20250920T202300Z
LAST-MODIFIED:20250922T203100Z
UID:20251006T115000-84309@law.utexas.edu
SUMMARY:Women's Law Caucus General Body Meeting
DESCRIPTION:<p>Women’s Law Caucus General Body Meeting
  📅 Sunday, October 6
  🕛 11:50 AM
  📍 Blanton Classroom 2.138</p>
  <p>Join us for our first General Body Meeting of the year! 🎉 Come hear about WLC’s goals, upcoming events, and exciting opportunities to get involved. Plus—stay fueled with tasty snacks while connecting with fellow members.</p>
  <p>All WLC members are encouraged to attend—your voice helps shape our year ahead. Don’t miss out! 💼✨</p>\n\nIf you need an accommodation to participate in this event, please contact the event sponsor or the Texas Law Special Events Office at specialevents@law.utexas.edu no later than seven business days prior to the event.
X-ALT-DESC;FMTTYPE=text/html:<p>Women’s Law Caucus General Body Meeting
  📅 Sunday, October 6
  🕛 11:50 AM
  📍 Blanton Classroom 2.138</p>
  <p>Join us for our first General Body Meeting of the year! 🎉 Come hear about WLC’s goals, upcoming events, and exciting opportunities to get involved. Plus—stay fueled with tasty snacks while connecting with fellow members.</p>
  <p>All WLC members are encouraged to attend—your voice helps shape our year ahead. Don’t miss out! 💼✨</p><p>If you need an accommodation to participate in this event, please contact the event
                                          event sponsor or the Texas Law Special Events Office at <a href="mailto:specialevents@law.utexas.edu">specialevents@law.utexas.edu</a> no later than seven business days prior to the event.</p>
CATEGORIES:Meeting
LOCATION:TNH 2.138 - Blanton Classroom
URL:http://law.utexas.edu/calendar/2025/10/06/84309/
CLASS:PUBLIC
STATUS:CONFIRMED

END:VEVENT
END:VCALENDAR