BEGIN:VCALENDAR
VERSION:2.0
PRODID:-//UNIVERSITY OF TEXAS SCHOOL OF LAW//NONSGML Events Calendar v1.0//EN
X-WR-TIMEZONE:America/Chicago
BEGIN:VTIMEZONE
TZID:US/Central
X-LIC-LOCATION:America/Chicago
BEGIN:DAYLIGHT
TZOFFSETFROM:-0600
TZOFFSETTO:-0500
TZNAME:CDT
DTSTART:19700308T020000
RRULE:FREQ=YEARLY;BYMONTH=3;BYDAY=2SU
END:DAYLIGHT
BEGIN:STANDARD
TZOFFSETFROM:-0500
TZOFFSETTO:-0600
TZNAME:CST
DTSTART:19701101T020000
RRULE:FREQ=YEARLY;BYMONTH=11;BYDAY=1SU
END:STANDARD
END:VTIMEZONE
BEGIN:VEVENT
DTSTART;TZID=US/Central:20251008T115000
DTEND;VALUE=DATE-TIME;TZID=US/Central:20251008T125000

DTSTAMP:20260419T170900Z
CREATED:20250930T001300Z
LAST-MODIFIED:20251005T020300Z
UID:20251008T115000-84502@law.utexas.edu
SUMMARY:CHLLSA Academic Excellence Presentation
DESCRIPTION:<p>Join CHLLSA members for a presentation on achieving academic excellence. With the start of October comes time to focus on outlining and finals, so take time to hear from those who have been through it before!</p>\n\nIf you need an accommodation to participate in this event, please contact the event sponsor or the Texas Law Special Events Office at specialevents@law.utexas.edu no later than seven business days prior to the event.
X-ALT-DESC;FMTTYPE=text/html:<p>Join CHLLSA members for a presentation on achieving academic excellence. With the start of October comes time to focus on outlining and finals, so take time to hear from those who have been through it before!</p><p>If you need an accommodation to participate in this event, please contact the event
                                          event sponsor or the Texas Law Special Events Office at <a href="mailto:specialevents@law.utexas.edu">specialevents@law.utexas.edu</a> no later than seven business days prior to the event.</p>

LOCATION:TNH 2.140 - Wright Classroom
URL:http://law.utexas.edu/calendar/2025/10/08/84502/
CLASS:PUBLIC
STATUS:CONFIRMED

END:VEVENT
END:VCALENDAR