BEGIN:VCALENDAR
VERSION:2.0
PRODID:-//UNIVERSITY OF TEXAS SCHOOL OF LAW//NONSGML Events Calendar v1.0//EN
X-WR-TIMEZONE:America/Chicago
BEGIN:VTIMEZONE
TZID:US/Central
X-LIC-LOCATION:America/Chicago
BEGIN:DAYLIGHT
TZOFFSETFROM:-0600
TZOFFSETTO:-0500
TZNAME:CDT
DTSTART:19700308T020000
RRULE:FREQ=YEARLY;BYMONTH=3;BYDAY=2SU
END:DAYLIGHT
BEGIN:STANDARD
TZOFFSETFROM:-0500
TZOFFSETTO:-0600
TZNAME:CST
DTSTART:19701101T020000
RRULE:FREQ=YEARLY;BYMONTH=11;BYDAY=1SU
END:STANDARD
END:VTIMEZONE
BEGIN:VEVENT
DTSTART;TZID=US/Central:20251008T115000
DTEND;VALUE=DATE-TIME;TZID=US/Central:20251008T125000

DTSTAMP:20260419T120100Z
CREATED:20251001T151200Z
LAST-MODIFIED:20251003T202500Z
UID:20251008T115000-84536@law.utexas.edu
SUMMARY:The New Global Abortion Syndicate
DESCRIPTION:<p>UT Law Students for Life welcomes Dr. John Seago for “The New Global Abortion Syndicate,” a timely look at Aid Access and the global rise of abortion pills by mail. Dr. Seago will explain how this network operates, the legal framework surrounding abortion pills, and the medical risks associated with unsupervised chemical abortion. The talk will highlight emerging policy and litigation trends and conclude with audience Q&amp;A. Open to all UT Law students. Lunch will be provided.</p>\n\nIf you need an accommodation to participate in this event, please contact the event sponsor or the Texas Law Special Events Office at specialevents@law.utexas.edu no later than seven business days prior to the event.
X-ALT-DESC;FMTTYPE=text/html:<p>UT Law Students for Life welcomes Dr. John Seago for “The New Global Abortion Syndicate,” a timely look at Aid Access and the global rise of abortion pills by mail. Dr. Seago will explain how this network operates, the legal framework surrounding abortion pills, and the medical risks associated with unsupervised chemical abortion. The talk will highlight emerging policy and litigation trends and conclude with audience Q&amp;A. Open to all UT Law students. Lunch will be provided.</p><p>If you need an accommodation to participate in this event, please contact the event
                                          event sponsor or the Texas Law Special Events Office at <a href="mailto:specialevents@law.utexas.edu">specialevents@law.utexas.edu</a> no later than seven business days prior to the event.</p>
CATEGORIES:Lunch
LOCATION:TNH 2.124 - Reaud Classroom
URL:http://law.utexas.edu/calendar/2025/10/08/84536/
CLASS:PUBLIC
STATUS:CONFIRMED

END:VEVENT
END:VCALENDAR