BEGIN:VCALENDAR
VERSION:2.0
PRODID:-//UNIVERSITY OF TEXAS SCHOOL OF LAW//NONSGML Events Calendar v1.0//EN
X-WR-TIMEZONE:America/Chicago
BEGIN:VTIMEZONE
TZID:US/Central
X-LIC-LOCATION:America/Chicago
BEGIN:DAYLIGHT
TZOFFSETFROM:-0600
TZOFFSETTO:-0500
TZNAME:CDT
DTSTART:19700308T020000
RRULE:FREQ=YEARLY;BYMONTH=3;BYDAY=2SU
END:DAYLIGHT
BEGIN:STANDARD
TZOFFSETFROM:-0500
TZOFFSETTO:-0600
TZNAME:CST
DTSTART:19701101T020000
RRULE:FREQ=YEARLY;BYMONTH=11;BYDAY=1SU
END:STANDARD
END:VTIMEZONE
BEGIN:VEVENT
DTSTART;TZID=US/Central:20251008T120000
DTEND;VALUE=DATE-TIME;TZID=US/Central:20251008T125000

DTSTAMP:20260419T165300Z
CREATED:20251001T212100Z
LAST-MODIFIED:20251001T212100Z
UID:20251008T120000-84556@law.utexas.edu
SUMMARY:Lessons from Two Lifetimes in Court
DESCRIPTION:<p>Lessons from Two Lifetimes in Court: How to Try Any Kind of Case from the Authors of On the Jury Trial.  Speakers are Tom Melsheimer (partner at Winston &amp; Strawn, ABOTA member, adjunct at Texas Law) and Justice Craig Smith (Texas 5th Court of Appeals, ABOTA member, Board Certified in both Civil Trial Law and Personal Injury Law).</p>
  <p>Two lawyers with nearly a combined century in the courtroom are coming to share their experience with Texas Law students (and give away copies of their book to the first 15 students to show up).  There will be pizza too!</p>
  <p>If you would like to attend this presentation, please contact Marla Massin, mmassin@law.utexas.edu, by Sunday, 10/5.</p>\n\nIf you need an accommodation to participate in this event, please contact the event sponsor or the Texas Law Special Events Office at specialevents@law.utexas.edu no later than seven business days prior to the event.
X-ALT-DESC;FMTTYPE=text/html:<p>Lessons from Two Lifetimes in Court: How to Try Any Kind of Case from the Authors of On the Jury Trial.  Speakers are Tom Melsheimer (partner at Winston &amp; Strawn, ABOTA member, adjunct at Texas Law) and Justice Craig Smith (Texas 5th Court of Appeals, ABOTA member, Board Certified in both Civil Trial Law and Personal Injury Law).</p>
  <p>Two lawyers with nearly a combined century in the courtroom are coming to share their experience with Texas Law students (and give away copies of their book to the first 15 students to show up).  There will be pizza too!</p>
  <p>If you would like to attend this presentation, please contact Marla Massin, mmassin@law.utexas.edu, by Sunday, 10/5.</p><p>If you need an accommodation to participate in this event, please contact the event
                                          event sponsor or the Texas Law Special Events Office at <a href="mailto:specialevents@law.utexas.edu">specialevents@law.utexas.edu</a> no later than seven business days prior to the event.</p>
CATEGORIES:Other
LOCATION:TNH 2.138 - Blanton Classroom
URL:http://law.utexas.edu/calendar/2025/10/08/84556/
CLASS:PUBLIC
STATUS:CONFIRMED
COMMENT:mmassin@law.utexas.edu
END:VEVENT
END:VCALENDAR