BEGIN:VCALENDAR
VERSION:2.0
PRODID:-//UNIVERSITY OF TEXAS SCHOOL OF LAW//NONSGML Events Calendar v1.0//EN
X-WR-TIMEZONE:America/Chicago
BEGIN:VTIMEZONE
TZID:US/Central
X-LIC-LOCATION:America/Chicago
BEGIN:DAYLIGHT
TZOFFSETFROM:-0600
TZOFFSETTO:-0500
TZNAME:CDT
DTSTART:19700308T020000
RRULE:FREQ=YEARLY;BYMONTH=3;BYDAY=2SU
END:DAYLIGHT
BEGIN:STANDARD
TZOFFSETFROM:-0500
TZOFFSETTO:-0600
TZNAME:CST
DTSTART:19701101T020000
RRULE:FREQ=YEARLY;BYMONTH=11;BYDAY=1SU
END:STANDARD
END:VTIMEZONE
BEGIN:VEVENT
DTSTART;TZID=US/Central:20251009T090000
DTEND;VALUE=DATE-TIME;TZID=US/Central:20251009T170000

DTSTAMP:20260419T172200Z
CREATED:20250603T063500Z
LAST-MODIFIED:20250721T195300Z
UID:20251009T090000-82697@law.utexas.edu
SUMMARY:Fall Interview Program
DESCRIPTION:<p>The Fall Interview Program welcomes employers to recruit 2Ls, 3Ls, domestic and foreign-trained LL.M.s, and recent graduates (up to one year after graduation) for summer clerkships or postgraduate positions.</p>
  <p>Monday, October 6 – Tuesday, October 7, 2025 (virtual):
  Interviews conducted virtually from 9:00 a.m. – 5:00 p.m. (CT) via the TEX – Powered by 12Twenty In-App Video.</p>
  <p>Wednesday, October 8 – Thursday, October 9, 2025 (in-person):
  Interviews held in-person from 9:00 a.m. – 5:00 p.m. (CT) in the Texas Law Career Services Interview Suite (TNH 3.122).</p>\n\nIf you need an accommodation to participate in this event, please contact the event sponsor or the Texas Law Special Events Office at specialevents@law.utexas.edu no later than seven business days prior to the event.
X-ALT-DESC;FMTTYPE=text/html:<p>The Fall Interview Program welcomes employers to recruit 2Ls, 3Ls, domestic and foreign-trained LL.M.s, and recent graduates (up to one year after graduation) for summer clerkships or postgraduate positions.</p>
  <p>Monday, October 6 – Tuesday, October 7, 2025 (virtual):
  Interviews conducted virtually from 9:00 a.m. – 5:00 p.m. (CT) via the TEX – Powered by 12Twenty In-App Video.</p>
  <p>Wednesday, October 8 – Thursday, October 9, 2025 (in-person):
  Interviews held in-person from 9:00 a.m. – 5:00 p.m. (CT) in the Texas Law Career Services Interview Suite (TNH 3.122).</p><p>If you need an accommodation to participate in this event, please contact the event
                                          event sponsor or the Texas Law Special Events Office at <a href="mailto:specialevents@law.utexas.edu">specialevents@law.utexas.edu</a> no later than seven business days prior to the event.</p>
CATEGORIES:Interview Program
LOCATION:Career Services Interview Suite (TNH 3.122)
URL:http://law.utexas.edu/calendar/2025/10/09/82697/
CLASS:PUBLIC
STATUS:CONFIRMED
COMMENT:Please email the <a href="mailto:cso@law.utexas.edu">Career Services Office</a> or call (512) 232-1150.
END:VEVENT
END:VCALENDAR