BEGIN:VCALENDAR
VERSION:2.0
PRODID:-//UNIVERSITY OF TEXAS SCHOOL OF LAW//NONSGML Events Calendar v1.0//EN
X-WR-TIMEZONE:America/Chicago
BEGIN:VTIMEZONE
TZID:US/Central
X-LIC-LOCATION:America/Chicago
BEGIN:DAYLIGHT
TZOFFSETFROM:-0600
TZOFFSETTO:-0500
TZNAME:CDT
DTSTART:19700308T020000
RRULE:FREQ=YEARLY;BYMONTH=3;BYDAY=2SU
END:DAYLIGHT
BEGIN:STANDARD
TZOFFSETFROM:-0500
TZOFFSETTO:-0600
TZNAME:CST
DTSTART:19701101T020000
RRULE:FREQ=YEARLY;BYMONTH=11;BYDAY=1SU
END:STANDARD
END:VTIMEZONE
BEGIN:VEVENT
DTSTART;TZID=US/Central:20251009T115000
DTEND;VALUE=DATE-TIME;TZID=US/Central:20251009T125000

DTSTAMP:20260419T172000Z
CREATED:20250731T193800Z
LAST-MODIFIED:20250731T193800Z
UID:20251009T115000-83132@law.utexas.edu
SUMMARY:Applying for your 1L Job
DESCRIPTION:<p>Please RSVP by Wednesday, October 8, on <a href="https://law-utexas.12twenty.com/events/30006101288107">TEX</a>.</p>
  <p>Learn essential information and strategies for applying to your 1L summer position. Hear more about both public and private sector opportunities, learn effective techniques for identifying available positions, and understand what application materials are required and how to submit them. The session will also introduce you to upcoming interview programs and explain how they could play a role in your 1L job search. Pizza will be served.</p>\n\nIf you need an accommodation to participate in this event, please contact the event sponsor or the Texas Law Special Events Office at specialevents@law.utexas.edu no later than seven business days prior to the event.
X-ALT-DESC;FMTTYPE=text/html:<p>Please RSVP by Wednesday, October 8, on <a href="https://law-utexas.12twenty.com/events/30006101288107">TEX</a>.</p>
  <p>Learn essential information and strategies for applying to your 1L summer position. Hear more about both public and private sector opportunities, learn effective techniques for identifying available positions, and understand what application materials are required and how to submit them. The session will also introduce you to upcoming interview programs and explain how they could play a role in your 1L job search. Pizza will be served.</p><p>If you need an accommodation to participate in this event, please contact the event
                                          event sponsor or the Texas Law Special Events Office at <a href="mailto:specialevents@law.utexas.edu">specialevents@law.utexas.edu</a> no later than seven business days prior to the event.</p>
CATEGORIES:Workshop / Training Program
LOCATION:TNH 2.114 - Francis Auditorium
URL:http://law.utexas.edu/calendar/2025/10/09/83132/
CLASS:PUBLIC
STATUS:CONFIRMED
COMMENT:Please contact Mindy Finnigan, Director of Professional Development, at  <a href="mailto:mindy.finnigan@law.utexas.edu">mindy.finnigan@law.utexas.edu</a>.
END:VEVENT
END:VCALENDAR