BEGIN:VCALENDAR
VERSION:2.0
PRODID:-//UNIVERSITY OF TEXAS SCHOOL OF LAW//NONSGML Events Calendar v1.0//EN
X-WR-TIMEZONE:America/Chicago
BEGIN:VTIMEZONE
TZID:US/Central
X-LIC-LOCATION:America/Chicago
BEGIN:DAYLIGHT
TZOFFSETFROM:-0600
TZOFFSETTO:-0500
TZNAME:CDT
DTSTART:19700308T020000
RRULE:FREQ=YEARLY;BYMONTH=3;BYDAY=2SU
END:DAYLIGHT
BEGIN:STANDARD
TZOFFSETFROM:-0500
TZOFFSETTO:-0600
TZNAME:CST
DTSTART:19701101T020000
RRULE:FREQ=YEARLY;BYMONTH=11;BYDAY=1SU
END:STANDARD
END:VTIMEZONE
BEGIN:VEVENT
DTSTART;TZID=US/Central:20251009T115000
DTEND;VALUE=DATE-TIME;TZID=US/Central:20251009T125000

DTSTAMP:20260419T181800Z
CREATED:20250929T200500Z
LAST-MODIFIED:20251005T020400Z
UID:20251009T115000-84500@law.utexas.edu
SUMMARY:Supreme Court Term Preview
DESCRIPTION:<p>Texas Federalist Society is hosting a discussion/debate on the upcoming Supreme Court term. We will host David W. Casazza from Gibson Dunn and Professor Maria Ponemarenko from the University of Texas School of Law to discuss this topic. Chick-fil-a will be provided!</p>\n\nIf you need an accommodation to participate in this event, please contact the event sponsor or the Texas Law Special Events Office at specialevents@law.utexas.edu no later than seven business days prior to the event.
X-ALT-DESC;FMTTYPE=text/html:<p>Texas Federalist Society is hosting a discussion/debate on the upcoming Supreme Court term. We will host David W. Casazza from Gibson Dunn and Professor Maria Ponemarenko from the University of Texas School of Law to discuss this topic. Chick-fil-a will be provided!</p><p>If you need an accommodation to participate in this event, please contact the event
                                          event sponsor or the Texas Law Special Events Office at <a href="mailto:specialevents@law.utexas.edu">specialevents@law.utexas.edu</a> no later than seven business days prior to the event.</p>
CATEGORIES:Lunch
LOCATION:TNH 2.138 - Blanton Classroom
URL:http://law.utexas.edu/calendar/2025/10/09/84500/
CLASS:PUBLIC
STATUS:CONFIRMED

END:VEVENT
END:VCALENDAR