BEGIN:VCALENDAR
VERSION:2.0
PRODID:-//UNIVERSITY OF TEXAS SCHOOL OF LAW//NONSGML Events Calendar v1.0//EN
X-WR-TIMEZONE:America/Chicago
BEGIN:VTIMEZONE
TZID:US/Central
X-LIC-LOCATION:America/Chicago
BEGIN:DAYLIGHT
TZOFFSETFROM:-0600
TZOFFSETTO:-0500
TZNAME:CDT
DTSTART:19700308T020000
RRULE:FREQ=YEARLY;BYMONTH=3;BYDAY=2SU
END:DAYLIGHT
BEGIN:STANDARD
TZOFFSETFROM:-0500
TZOFFSETTO:-0600
TZNAME:CST
DTSTART:19701101T020000
RRULE:FREQ=YEARLY;BYMONTH=11;BYDAY=1SU
END:STANDARD
END:VTIMEZONE
BEGIN:VEVENT
DTSTART;TZID=US/Central:20251013T083000
DTEND;VALUE=DATE-TIME;TZID=US/Central:20251013T103000

DTSTAMP:20260419T130400Z
CREATED:20250917T144700Z
LAST-MODIFIED:20251006T155100Z
UID:20251013T083000-84297@law.utexas.edu
SUMMARY:Mayer Brown | 1L Meet &amp; Greet
DESCRIPTION:<p>1Ls: Stop by to meet recruiters from Mayer Brown to learn more about their firm and grab some breakfast from Chick-Fil-A.  <a href="https://www.mayerbrown.com/-/media/files/perspectives-events/events/2025/10/mb-hou-x-texas-meet--greet-oct-13.pdf?rev=d513c014204f4372bd33df80a0185896">LINK</a>to the flyer.</p>\n\nIf you need an accommodation to participate in this event, please contact the event sponsor or the Texas Law Special Events Office at specialevents@law.utexas.edu no later than seven business days prior to the event.
X-ALT-DESC;FMTTYPE=text/html:<p>1Ls: Stop by to meet recruiters from Mayer Brown to learn more about their firm and grab some breakfast from Chick-Fil-A.  <a href="https://www.mayerbrown.com/-/media/files/perspectives-events/events/2025/10/mb-hou-x-texas-meet--greet-oct-13.pdf?rev=d513c014204f4372bd33df80a0185896">LINK</a>to the flyer.</p><p>If you need an accommodation to participate in this event, please contact the event
                                          event sponsor or the Texas Law Special Events Office at <a href="mailto:specialevents@law.utexas.edu">specialevents@law.utexas.edu</a> no later than seven business days prior to the event.</p>

LOCATION:TNH 2.100 - Susman Godfrey Atrium
URL:http://law.utexas.edu/calendar/2025/10/13/84297/
CLASS:PUBLIC
STATUS:CONFIRMED
COMMENT:Please contact <a href="mailto:tmorales@law.utexas.edu">Tim Morales</a>, Senior Events Specialist.
END:VEVENT
END:VCALENDAR