BEGIN:VCALENDAR
VERSION:2.0
PRODID:-//UNIVERSITY OF TEXAS SCHOOL OF LAW//NONSGML Events Calendar v1.0//EN
X-WR-TIMEZONE:America/Chicago
BEGIN:VTIMEZONE
TZID:US/Central
X-LIC-LOCATION:America/Chicago
BEGIN:DAYLIGHT
TZOFFSETFROM:-0600
TZOFFSETTO:-0500
TZNAME:CDT
DTSTART:19700308T020000
RRULE:FREQ=YEARLY;BYMONTH=3;BYDAY=2SU
END:DAYLIGHT
BEGIN:STANDARD
TZOFFSETFROM:-0500
TZOFFSETTO:-0600
TZNAME:CST
DTSTART:19701101T020000
RRULE:FREQ=YEARLY;BYMONTH=11;BYDAY=1SU
END:STANDARD
END:VTIMEZONE
BEGIN:VEVENT
DTSTART;TZID=US/Central:20251014T113000
DTEND;VALUE=DATE-TIME;TZID=US/Central:20251014T131500

DTSTAMP:20260419T173000Z
CREATED:20250620T191700Z
LAST-MODIFIED:20251008T145800Z
UID:20251014T113000-82816@law.utexas.edu
SUMMARY:Public Service Expo
DESCRIPTION:<p>Presented each fall by the CSO, the Public Service Expo offers Texas Law students an opportunity to informally meet with government agencies and public interest organizations to learn about the employers and available internship and job opportunities.</p>
  <p>This year's Expo will be held over two days in the Susman Godfrey Atrium from 11:30 a.m.-1:30 p.m. on Tuesday, October 14, 2025 and Wednesday, October 15, 2025. There will be different employers attending each day.</p>\n\nIf you need an accommodation to participate in this event, please contact the event sponsor or the Texas Law Special Events Office at specialevents@law.utexas.edu no later than seven business days prior to the event.
X-ALT-DESC;FMTTYPE=text/html:<p>Presented each fall by the CSO, the Public Service Expo offers Texas Law students an opportunity to informally meet with government agencies and public interest organizations to learn about the employers and available internship and job opportunities.</p>
  <p>This year's Expo will be held over two days in the Susman Godfrey Atrium from 11:30 a.m.-1:30 p.m. on Tuesday, October 14, 2025 and Wednesday, October 15, 2025. There will be different employers attending each day.</p><p>If you need an accommodation to participate in this event, please contact the event
                                          event sponsor or the Texas Law Special Events Office at <a href="mailto:specialevents@law.utexas.edu">specialevents@law.utexas.edu</a> no later than seven business days prior to the event.</p>
CATEGORIES:Symposium
LOCATION:TNH 2.100 - Susman Godfrey Atrium
URL:http://law.utexas.edu/calendar/2025/10/14/82816/
CLASS:PUBLIC
STATUS:CONFIRMED
COMMENT:Please contact Ryan Gersovitz, Career Counselor, at <a href="mailto:ryan.gersovitz@law.utexas.edu"> ryan.gersovitz@law.utexas.edu</a>.
END:VEVENT
END:VCALENDAR