BEGIN:VCALENDAR
VERSION:2.0
PRODID:-//UNIVERSITY OF TEXAS SCHOOL OF LAW//NONSGML Events Calendar v1.0//EN
X-WR-TIMEZONE:America/Chicago
BEGIN:VTIMEZONE
TZID:US/Central
X-LIC-LOCATION:America/Chicago
BEGIN:DAYLIGHT
TZOFFSETFROM:-0600
TZOFFSETTO:-0500
TZNAME:CDT
DTSTART:19700308T020000
RRULE:FREQ=YEARLY;BYMONTH=3;BYDAY=2SU
END:DAYLIGHT
BEGIN:STANDARD
TZOFFSETFROM:-0500
TZOFFSETTO:-0600
TZNAME:CST
DTSTART:19701101T020000
RRULE:FREQ=YEARLY;BYMONTH=11;BYDAY=1SU
END:STANDARD
END:VTIMEZONE
BEGIN:VEVENT
DTSTART;TZID=US/Central:20251015T120000
DTEND;VALUE=DATE-TIME;TZID=US/Central:20251015T125000

DTSTAMP:20260419T172200Z
CREATED:20251009T175500Z
LAST-MODIFIED:20251009T175500Z
UID:20251015T120000-84657@law.utexas.edu
SUMMARY:Power Lunch with Carrin F. Patman
DESCRIPTION:<p>Jennifer Banda, Director of the Center for Women in Law, will host a conversation with Ambassador Carrin F. Patman, former ambassador to Iceland, respected litigator, public service leader and CWIL Founder.  </p>
  <p>For three decades, Ambassador Patman was a litigator at Bracewell, concentrating on high-stakes litigation, and served on the firm’s management committee. In 2022, President Biden nominated Patman to be the United States Ambassador to the Republic of Iceland, and she was confirmed the same year. Ambassador Patman graduated from Duke University and The University of Texas School of Law, where she was a member of the Texas Law Review.  </p>
  <p>During this one-hour conversation, she will discuss her 30-year litigation career and the criticality of strategic thinking, zealous client representation, ethical integrity, and negotiation and communication skills.  </p>
  <p>The conversation will also focus on her just completed ambassadorship, with a discussion about the diplomatic role of an ambassador, the path to public service, her specific work fostering the U.S. and Iceland partnership, engagement through NATO and advocacy for U.S. policies on a range of international issues.  </p>
  <p>Ambassador Patman will also discuss her commitment to public service and leadership and the importance of cultivating future leaders, including discussion of her own community service roles. She has been very active in her local community in Houston, chairing of the Metropolitan Transit Authority of Harris County. At the University of Texas, she has served as president of the Law School Alumni Association, president of the Texas Law Review Association, Trustee and Senior Trustee of the Law School Foundation and founding board member of the Center for Women in Law. She and her husband founded The Patman Center for Civil and Political Engagement at the LBJ School. </p>\n\nIf you need an accommodation to participate in this event, please contact the event sponsor or the Texas Law Special Events Office at specialevents@law.utexas.edu no later than seven business days prior to the event.
X-ALT-DESC;FMTTYPE=text/html:<p>Jennifer Banda, Director of the Center for Women in Law, will host a conversation with Ambassador Carrin F. Patman, former ambassador to Iceland, respected litigator, public service leader and CWIL Founder.  </p>
  <p>For three decades, Ambassador Patman was a litigator at Bracewell, concentrating on high-stakes litigation, and served on the firm’s management committee. In 2022, President Biden nominated Patman to be the United States Ambassador to the Republic of Iceland, and she was confirmed the same year. Ambassador Patman graduated from Duke University and The University of Texas School of Law, where she was a member of the Texas Law Review.  </p>
  <p>During this one-hour conversation, she will discuss her 30-year litigation career and the criticality of strategic thinking, zealous client representation, ethical integrity, and negotiation and communication skills.  </p>
  <p>The conversation will also focus on her just completed ambassadorship, with a discussion about the diplomatic role of an ambassador, the path to public service, her specific work fostering the U.S. and Iceland partnership, engagement through NATO and advocacy for U.S. policies on a range of international issues.  </p>
  <p>Ambassador Patman will also discuss her commitment to public service and leadership and the importance of cultivating future leaders, including discussion of her own community service roles. She has been very active in her local community in Houston, chairing of the Metropolitan Transit Authority of Harris County. At the University of Texas, she has served as president of the Law School Alumni Association, president of the Texas Law Review Association, Trustee and Senior Trustee of the Law School Foundation and founding board member of the Center for Women in Law. She and her husband founded The Patman Center for Civil and Political Engagement at the LBJ School. </p><p>If you need an accommodation to participate in this event, please contact the event
                                          event sponsor or the Texas Law Special Events Office at <a href="mailto:specialevents@law.utexas.edu">specialevents@law.utexas.edu</a> no later than seven business days prior to the event.</p>
CATEGORIES:Lunch
LOCATION:CCJ 2.306 - Eidman Courtroom
URL:http://law.utexas.edu/calendar/2025/10/15/84657/
CLASS:PUBLIC
STATUS:CONFIRMED

END:VEVENT
END:VCALENDAR