BEGIN:VCALENDAR
VERSION:2.0
PRODID:-//UNIVERSITY OF TEXAS SCHOOL OF LAW//NONSGML Events Calendar v1.0//EN
X-WR-TIMEZONE:America/Chicago
BEGIN:VTIMEZONE
TZID:US/Central
X-LIC-LOCATION:America/Chicago
BEGIN:DAYLIGHT
TZOFFSETFROM:-0600
TZOFFSETTO:-0500
TZNAME:CDT
DTSTART:19700308T020000
RRULE:FREQ=YEARLY;BYMONTH=3;BYDAY=2SU
END:DAYLIGHT
BEGIN:STANDARD
TZOFFSETFROM:-0500
TZOFFSETTO:-0600
TZNAME:CST
DTSTART:19701101T020000
RRULE:FREQ=YEARLY;BYMONTH=11;BYDAY=1SU
END:STANDARD
END:VTIMEZONE
BEGIN:VEVENT
DTSTART;TZID=US/Central:20251016T115000
DTEND;VALUE=DATE-TIME;TZID=US/Central:20251016T125000

DTSTAMP:20260419T155500Z
CREATED:20250917T150100Z
LAST-MODIFIED:20250917T193500Z
UID:20251016T115000-84316@law.utexas.edu
SUMMARY:IPLS/TIPLJ: Lunch and Learn with Vorys
DESCRIPTION:<p>Grab lunch and learn about Vorys with Jason Mueller and Jabari Shaw. Jason co-chairs the firm’s trademark and copyright teams, and is a lead trial lawyer for clients involved in patent, copyright, branding and corporate confidential information cases, including trade secret and technology matters. Jabari focuses his practice on intellectual property development, protection, and enforcement, primarily in the areas of trademark and copyright law.</p>\n\nIf you need an accommodation to participate in this event, please contact the event sponsor or the Texas Law Special Events Office at specialevents@law.utexas.edu no later than seven business days prior to the event.
X-ALT-DESC;FMTTYPE=text/html:<p>Grab lunch and learn about Vorys with Jason Mueller and Jabari Shaw. Jason co-chairs the firm’s trademark and copyright teams, and is a lead trial lawyer for clients involved in patent, copyright, branding and corporate confidential information cases, including trade secret and technology matters. Jabari focuses his practice on intellectual property development, protection, and enforcement, primarily in the areas of trademark and copyright law.</p><p>If you need an accommodation to participate in this event, please contact the event
                                          event sponsor or the Texas Law Special Events Office at <a href="mailto:specialevents@law.utexas.edu">specialevents@law.utexas.edu</a> no later than seven business days prior to the event.</p>

LOCATION:TNH 2.123 - Beck Classroom
URL:http://law.utexas.edu/calendar/2025/10/16/84316/
CLASS:PUBLIC
STATUS:CONFIRMED

END:VEVENT
END:VCALENDAR