BEGIN:VCALENDAR
VERSION:2.0
PRODID:-//UNIVERSITY OF TEXAS SCHOOL OF LAW//NONSGML Events Calendar v1.0//EN
X-WR-TIMEZONE:America/Chicago
BEGIN:VTIMEZONE
TZID:US/Central
X-LIC-LOCATION:America/Chicago
BEGIN:DAYLIGHT
TZOFFSETFROM:-0600
TZOFFSETTO:-0500
TZNAME:CDT
DTSTART:19700308T020000
RRULE:FREQ=YEARLY;BYMONTH=3;BYDAY=2SU
END:DAYLIGHT
BEGIN:STANDARD
TZOFFSETFROM:-0500
TZOFFSETTO:-0600
TZNAME:CST
DTSTART:19701101T020000
RRULE:FREQ=YEARLY;BYMONTH=11;BYDAY=1SU
END:STANDARD
END:VTIMEZONE
BEGIN:VEVENT
DTSTART;TZID=US/Central:20251016T115000
DTEND;VALUE=DATE-TIME;TZID=US/Central:20251016T125000

DTSTAMP:20260419T122400Z
CREATED:20250929T220500Z
LAST-MODIFIED:20251005T020400Z
UID:20251016T115000-84477@law.utexas.edu
SUMMARY:Is America a Christian Nation?
DESCRIPTION:<p>Texas Federalist Society is hosting a debate on the principles that informed the Founding of the United States - specifically, whether Christianity or the Enlightenment was at the foundation of the country. We will host Professor Justin Dyer and Professor Devin Stauffer, both of whom are from the University of Texas College of Liberal Arts to debate this issue. Chick-fil-a will be provided!</p>\n\nIf you need an accommodation to participate in this event, please contact the event sponsor or the Texas Law Special Events Office at specialevents@law.utexas.edu no later than seven business days prior to the event.
X-ALT-DESC;FMTTYPE=text/html:<p>Texas Federalist Society is hosting a debate on the principles that informed the Founding of the United States - specifically, whether Christianity or the Enlightenment was at the foundation of the country. We will host Professor Justin Dyer and Professor Devin Stauffer, both of whom are from the University of Texas College of Liberal Arts to debate this issue. Chick-fil-a will be provided!</p><p>If you need an accommodation to participate in this event, please contact the event
                                          event sponsor or the Texas Law Special Events Office at <a href="mailto:specialevents@law.utexas.edu">specialevents@law.utexas.edu</a> no later than seven business days prior to the event.</p>
CATEGORIES:Lunch
LOCATION:TNH 2.137 - Gayle Classroom
URL:http://law.utexas.edu/calendar/2025/10/16/84477/
CLASS:PUBLIC
STATUS:CONFIRMED

END:VEVENT
END:VCALENDAR