BEGIN:VCALENDAR
VERSION:2.0
PRODID:-//UNIVERSITY OF TEXAS SCHOOL OF LAW//NONSGML Events Calendar v1.0//EN
X-WR-TIMEZONE:America/Chicago
BEGIN:VTIMEZONE
TZID:US/Central
X-LIC-LOCATION:America/Chicago
BEGIN:DAYLIGHT
TZOFFSETFROM:-0600
TZOFFSETTO:-0500
TZNAME:CDT
DTSTART:19700308T020000
RRULE:FREQ=YEARLY;BYMONTH=3;BYDAY=2SU
END:DAYLIGHT
BEGIN:STANDARD
TZOFFSETFROM:-0500
TZOFFSETTO:-0600
TZNAME:CST
DTSTART:19701101T020000
RRULE:FREQ=YEARLY;BYMONTH=11;BYDAY=1SU
END:STANDARD
END:VTIMEZONE
BEGIN:VEVENT
DTSTART;TZID=US/Central:20251016T170000
DTEND;VALUE=DATE-TIME;TZID=US/Central:20251016T183000

DTSTAMP:20260420T001300Z
CREATED:20251001T153900Z
LAST-MODIFIED:20251005T020600Z
UID:20251016T170000-84539@law.utexas.edu
SUMMARY:OUTLaw Happy Hour With Foley &amp; Lardner
DESCRIPTION:<p>Law students are invited to join Foley &amp; Lardner at Butterfly Bar for cocktails and conversation! Attorneys and recruiters will be present. ALL law students welcome; OUTLaw members highly encouraged!</p>\n\nIf you need an accommodation to participate in this event, please contact the event sponsor or the Texas Law Special Events Office at specialevents@law.utexas.edu no later than seven business days prior to the event.
X-ALT-DESC;FMTTYPE=text/html:<p>Law students are invited to join Foley &amp; Lardner at Butterfly Bar for cocktails and conversation! Attorneys and recruiters will be present. ALL law students welcome; OUTLaw members highly encouraged!</p><p>If you need an accommodation to participate in this event, please contact the event
                                          event sponsor or the Texas Law Special Events Office at <a href="mailto:specialevents@law.utexas.edu">specialevents@law.utexas.edu</a> no later than seven business days prior to the event.</p>
CATEGORIES:Reception
LOCATION:Butterfly Bar @ The Vortex, 2307 Manor Rd, Austin, TX 78722
URL:http://law.utexas.edu/calendar/2025/10/16/84539/
CLASS:PUBLIC
STATUS:CONFIRMED

END:VEVENT
END:VCALENDAR