BEGIN:VCALENDAR
VERSION:2.0
PRODID:-//UNIVERSITY OF TEXAS SCHOOL OF LAW//NONSGML Events Calendar v1.0//EN
X-WR-TIMEZONE:America/Chicago
BEGIN:VTIMEZONE
TZID:US/Central
X-LIC-LOCATION:America/Chicago
BEGIN:DAYLIGHT
TZOFFSETFROM:-0600
TZOFFSETTO:-0500
TZNAME:CDT
DTSTART:19700308T020000
RRULE:FREQ=YEARLY;BYMONTH=3;BYDAY=2SU
END:DAYLIGHT
BEGIN:STANDARD
TZOFFSETFROM:-0500
TZOFFSETTO:-0600
TZNAME:CST
DTSTART:19701101T020000
RRULE:FREQ=YEARLY;BYMONTH=11;BYDAY=1SU
END:STANDARD
END:VTIMEZONE
BEGIN:VEVENT
DTSTART;TZID=US/Central:20251017T183000
DTEND;VALUE=DATE-TIME;TZID=US/Central:20251017T210000

DTSTAMP:20260419T122400Z
CREATED:20250912T173700Z
LAST-MODIFIED:20251007T215800Z
UID:20251017T183000-84192@law.utexas.edu
SUMMARY:Texas Law Fall Shabbat Dinner
DESCRIPTION:<p>A Shabbat meal hosted by JLS for alumni, students, and professors as well as their families. We ask you RSVP by the 14th so we have enough food and drinks, thanks!  <a href="https://docs.google.com/forms/d/e/1FAIpQLSdBwVr75iEGMT8O2w2Kpf6bndeGZbIPga3Y0mhzbKN90CQRyA/viewform?usp=header">https://docs.google.com/forms/d/e/1FAIpQLSdBwVr75iEGMT8O2w2Kpf6bndeGZbIPga3Y0mhzbKN90CQRyA/viewform?usp=header</a> </p>\n\nIf you need an accommodation to participate in this event, please contact the event sponsor or the Texas Law Special Events Office at specialevents@law.utexas.edu no later than seven business days prior to the event.
X-ALT-DESC;FMTTYPE=text/html:<p>A Shabbat meal hosted by JLS for alumni, students, and professors as well as their families. We ask you RSVP by the 14th so we have enough food and drinks, thanks!  <a href="https://docs.google.com/forms/d/e/1FAIpQLSdBwVr75iEGMT8O2w2Kpf6bndeGZbIPga3Y0mhzbKN90CQRyA/viewform?usp=header">https://docs.google.com/forms/d/e/1FAIpQLSdBwVr75iEGMT8O2w2Kpf6bndeGZbIPga3Y0mhzbKN90CQRyA/viewform?usp=header</a> </p><p>If you need an accommodation to participate in this event, please contact the event
                                          event sponsor or the Texas Law Special Events Office at <a href="mailto:specialevents@law.utexas.edu">specialevents@law.utexas.edu</a> no later than seven business days prior to the event.</p>
CATEGORIES:Dinner
LOCATION:TNH 2.100 - Susman Godfrey Atrium
URL:http://law.utexas.edu/calendar/2025/10/17/84192/
CLASS:PUBLIC
STATUS:CONFIRMED
COMMENT:https://docs.google.com/forms/d/e/1FAIpQLSdBwVr75iEGMT8O2w2Kpf6bndeGZbIPga3Y0mhzbKN90CQRyA/viewform?usp=header
END:VEVENT
END:VCALENDAR