BEGIN:VCALENDAR
VERSION:2.0
PRODID:-//UNIVERSITY OF TEXAS SCHOOL OF LAW//NONSGML Events Calendar v1.0//EN
X-WR-TIMEZONE:America/Chicago
BEGIN:VTIMEZONE
TZID:US/Central
X-LIC-LOCATION:America/Chicago
BEGIN:DAYLIGHT
TZOFFSETFROM:-0600
TZOFFSETTO:-0500
TZNAME:CDT
DTSTART:19700308T020000
RRULE:FREQ=YEARLY;BYMONTH=3;BYDAY=2SU
END:DAYLIGHT
BEGIN:STANDARD
TZOFFSETFROM:-0500
TZOFFSETTO:-0600
TZNAME:CST
DTSTART:19701101T020000
RRULE:FREQ=YEARLY;BYMONTH=11;BYDAY=1SU
END:STANDARD
END:VTIMEZONE
BEGIN:VEVENT
DTSTART;TZID=US/Central:20251020T130000


DTSTAMP:20260419T173000Z
CREATED:20250522T161700Z
LAST-MODIFIED:20251007T202300Z
UID:20251020T130000-82655@law.utexas.edu
SUMMARY:Advisory Opinions Podcast LIVE
DESCRIPTION:<p>Free Speech Week Event!</p>
  <p>Join us for a live recording of the Advisory Opinions Podcast. Hosts Sarah Isgur (editor of SCOTUSblog) and David French (Columnist for the New York Times) will talk about recent developments in the law, the courts, their collision with politics, and why it all matters. </p>
  <p>RSVPs are highly encouraged. Please visit the link. We hope you join us!</p>\n\nIf you need an accommodation to participate in this event, please contact the event sponsor or the Texas Law Special Events Office at specialevents@law.utexas.edu no later than seven business days prior to the event.
X-ALT-DESC;FMTTYPE=text/html:<p>Free Speech Week Event!</p>
  <p>Join us for a live recording of the Advisory Opinions Podcast. Hosts Sarah Isgur (editor of SCOTUSblog) and David French (Columnist for the New York Times) will talk about recent developments in the law, the courts, their collision with politics, and why it all matters. </p>
  <p>RSVPs are highly encouraged. Please visit the link. We hope you join us!</p><p>If you need an accommodation to participate in this event, please contact the event
                                          event sponsor or the Texas Law Special Events Office at <a href="mailto:specialevents@law.utexas.edu">specialevents@law.utexas.edu</a> no later than seven business days prior to the event.</p>

LOCATION:CCJ 2.306 - Eidman Courtroom
URL:http://law.utexas.edu/calendar/2025/10/20/82655/
CLASS:PUBLIC
STATUS:CONFIRMED

END:VEVENT
END:VCALENDAR