BEGIN:VCALENDAR
VERSION:2.0
PRODID:-//UNIVERSITY OF TEXAS SCHOOL OF LAW//NONSGML Events Calendar v1.0//EN
X-WR-TIMEZONE:America/Chicago
BEGIN:VTIMEZONE
TZID:US/Central
X-LIC-LOCATION:America/Chicago
BEGIN:DAYLIGHT
TZOFFSETFROM:-0600
TZOFFSETTO:-0500
TZNAME:CDT
DTSTART:19700308T020000
RRULE:FREQ=YEARLY;BYMONTH=3;BYDAY=2SU
END:DAYLIGHT
BEGIN:STANDARD
TZOFFSETFROM:-0500
TZOFFSETTO:-0600
TZNAME:CST
DTSTART:19701101T020000
RRULE:FREQ=YEARLY;BYMONTH=11;BYDAY=1SU
END:STANDARD
END:VTIMEZONE
BEGIN:VEVENT
DTSTART;TZID=US/Central:20251020T180000
DTEND;VALUE=DATE-TIME;TZID=US/Central:20251020T210000

DTSTAMP:20260420T001500Z
CREATED:20250815T020200Z
LAST-MODIFIED:20250821T201100Z
UID:20251020T180000-83803@law.utexas.edu
SUMMARY:Diwali with APALSA
DESCRIPTION:<p>Join the Asian Pacific American Law Students Association (APALSA) as we celebrate Diwali, the Festival of Lights! Enjoy a delicious South Asian dinner, learn about the cultural and historical significance of Diwali, and connect with friends in a warm, festive atmosphere. Whether you’re familiar with the tradition or experiencing it for the first time, all are welcome to take part in this celebration of light, community, and new beginnings.</p>\n\nIf you need an accommodation to participate in this event, please contact the event sponsor or the Texas Law Special Events Office at specialevents@law.utexas.edu no later than seven business days prior to the event.
X-ALT-DESC;FMTTYPE=text/html:<p>Join the Asian Pacific American Law Students Association (APALSA) as we celebrate Diwali, the Festival of Lights! Enjoy a delicious South Asian dinner, learn about the cultural and historical significance of Diwali, and connect with friends in a warm, festive atmosphere. Whether you’re familiar with the tradition or experiencing it for the first time, all are welcome to take part in this celebration of light, community, and new beginnings.</p><p>If you need an accommodation to participate in this event, please contact the event
                                          event sponsor or the Texas Law Special Events Office at <a href="mailto:specialevents@law.utexas.edu">specialevents@law.utexas.edu</a> no later than seven business days prior to the event.</p>

LOCATION:TNH 2.111 - Sheffield-Massey Room
URL:http://law.utexas.edu/calendar/2025/10/20/83803/
CLASS:PUBLIC
STATUS:CONFIRMED

END:VEVENT
END:VCALENDAR