BEGIN:VCALENDAR
VERSION:2.0
PRODID:-//UNIVERSITY OF TEXAS SCHOOL OF LAW//NONSGML Events Calendar v1.0//EN
X-WR-TIMEZONE:America/Chicago
BEGIN:VTIMEZONE
TZID:US/Central
X-LIC-LOCATION:America/Chicago
BEGIN:DAYLIGHT
TZOFFSETFROM:-0600
TZOFFSETTO:-0500
TZNAME:CDT
DTSTART:19700308T020000
RRULE:FREQ=YEARLY;BYMONTH=3;BYDAY=2SU
END:DAYLIGHT
BEGIN:STANDARD
TZOFFSETFROM:-0500
TZOFFSETTO:-0600
TZNAME:CST
DTSTART:19701101T020000
RRULE:FREQ=YEARLY;BYMONTH=11;BYDAY=1SU
END:STANDARD
END:VTIMEZONE
BEGIN:VEVENT
DTSTART;TZID=US/Central:20251020T115000
DTEND;VALUE=DATE-TIME;TZID=US/Central:20251020T125000

DTSTAMP:20260419T163500Z
CREATED:20250822T174700Z
LAST-MODIFIED:20250824T215900Z
UID:20251020T115000-83902@law.utexas.edu
SUMMARY:CHLLSA "Lunch and Learn" with V&amp;E
DESCRIPTION:<p>The Chicano, Hispanic, Latino Law Students Association (CHLLSA) will host a "Lunch and Learn" with Vinson &amp; Elkins LLP. Members of the Vinson &amp; Elkins team will be on campus to meet with students and discuss their work at the firm and tips on applying for positions with the firm. This event will include lunch for those who RSVP. *RSVP to be provided as event approaches.</p>\n\nIf you need an accommodation to participate in this event, please contact the event sponsor or the Texas Law Special Events Office at specialevents@law.utexas.edu no later than seven business days prior to the event.
X-ALT-DESC;FMTTYPE=text/html:<p>The Chicano, Hispanic, Latino Law Students Association (CHLLSA) will host a "Lunch and Learn" with Vinson &amp; Elkins LLP. Members of the Vinson &amp; Elkins team will be on campus to meet with students and discuss their work at the firm and tips on applying for positions with the firm. This event will include lunch for those who RSVP. *RSVP to be provided as event approaches.</p><p>If you need an accommodation to participate in this event, please contact the event
                                          event sponsor or the Texas Law Special Events Office at <a href="mailto:specialevents@law.utexas.edu">specialevents@law.utexas.edu</a> no later than seven business days prior to the event.</p>

LOCATION:TNH 2.138 - Blanton Classroom
URL:http://law.utexas.edu/calendar/2025/10/20/83902/
CLASS:PUBLIC
STATUS:CONFIRMED

END:VEVENT
END:VCALENDAR