BEGIN:VCALENDAR
VERSION:2.0
PRODID:-//UNIVERSITY OF TEXAS SCHOOL OF LAW//NONSGML Events Calendar v1.0//EN
X-WR-TIMEZONE:America/Chicago
BEGIN:VTIMEZONE
TZID:US/Central
X-LIC-LOCATION:America/Chicago
BEGIN:DAYLIGHT
TZOFFSETFROM:-0600
TZOFFSETTO:-0500
TZNAME:CDT
DTSTART:19700308T020000
RRULE:FREQ=YEARLY;BYMONTH=3;BYDAY=2SU
END:DAYLIGHT
BEGIN:STANDARD
TZOFFSETFROM:-0500
TZOFFSETTO:-0600
TZNAME:CST
DTSTART:19701101T020000
RRULE:FREQ=YEARLY;BYMONTH=11;BYDAY=1SU
END:STANDARD
END:VTIMEZONE
BEGIN:VEVENT
DTSTART;TZID=US/Central:20251020T115000
DTEND;VALUE=DATE-TIME;TZID=US/Central:20251020T125000

DTSTAMP:20260419T173000Z
CREATED:20251003T173600Z
LAST-MODIFIED:20251005T020700Z
UID:20251020T115000-84596@law.utexas.edu
SUMMARY:ACS Presents: Immigration Rights
DESCRIPTION:<p>Join Texas Law’s chapter of the American Constitution Society for a Know Your Rights discussion and Q&amp;A featuring Kate Gibson Kumar from Texas Civil Rights Project. Ms. Kumar will provide practical insights on immigration rights protections, how individuals can assert their rights in everyday situations, and the role of advocacy in advancing justice. Don’t miss this opportunity to learn from an experienced civil rights attorney and ask your questions directly.</p>\n\nIf you need an accommodation to participate in this event, please contact the event sponsor or the Texas Law Special Events Office at specialevents@law.utexas.edu no later than seven business days prior to the event.
X-ALT-DESC;FMTTYPE=text/html:<p>Join Texas Law’s chapter of the American Constitution Society for a Know Your Rights discussion and Q&amp;A featuring Kate Gibson Kumar from Texas Civil Rights Project. Ms. Kumar will provide practical insights on immigration rights protections, how individuals can assert their rights in everyday situations, and the role of advocacy in advancing justice. Don’t miss this opportunity to learn from an experienced civil rights attorney and ask your questions directly.</p><p>If you need an accommodation to participate in this event, please contact the event
                                          event sponsor or the Texas Law Special Events Office at <a href="mailto:specialevents@law.utexas.edu">specialevents@law.utexas.edu</a> no later than seven business days prior to the event.</p>

LOCATION:TNH 2.139 - Wilson Classroom
URL:http://law.utexas.edu/calendar/2025/10/20/84596/
CLASS:PUBLIC
STATUS:CONFIRMED

END:VEVENT
END:VCALENDAR