BEGIN:VCALENDAR
VERSION:2.0
PRODID:-//UNIVERSITY OF TEXAS SCHOOL OF LAW//NONSGML Events Calendar v1.0//EN
X-WR-TIMEZONE:America/Chicago
BEGIN:VTIMEZONE
TZID:US/Central
X-LIC-LOCATION:America/Chicago
BEGIN:DAYLIGHT
TZOFFSETFROM:-0600
TZOFFSETTO:-0500
TZNAME:CDT
DTSTART:19700308T020000
RRULE:FREQ=YEARLY;BYMONTH=3;BYDAY=2SU
END:DAYLIGHT
BEGIN:STANDARD
TZOFFSETFROM:-0500
TZOFFSETTO:-0600
TZNAME:CST
DTSTART:19701101T020000
RRULE:FREQ=YEARLY;BYMONTH=11;BYDAY=1SU
END:STANDARD
END:VTIMEZONE
BEGIN:VEVENT
DTSTART;TZID=US/Central:20251021T173000
DTEND;VALUE=DATE-TIME;TZID=US/Central:20251021T190000

DTSTAMP:20260419T154200Z
CREATED:20251009T224600Z
LAST-MODIFIED:20251009T224600Z
UID:20251021T173000-84662@law.utexas.edu
SUMMARY:Is Europe Done with Free Speech?
DESCRIPTION:<p>On Tuesday, October 21st, please join the University of Texas’s Strauss Center for International Security and Law, Clements Center for National Security, School of Civic Leadership, and Civitas Institute, in collaboration with the Claremont Institute, in hosting Christopher Caldwell, New York Times columnist and Senior Fellow at the Claremont Institute, as he discusses populism and censorship in Europe.</p>
  <p>Across Europe, populist movements have gained widespread support, yet face growing restrictions on their political participation and exercise of speech. From the shores of Ireland to the gates of Moscow, debates over immigration, nationalism, and cultural identity have become flashpoints for decisions on who gets to speak in the public square—and who decides what counts as acceptable opinion. Mr. Caldwell will examine how European governments and institutions are responding to the success of populist movements in Europe and what these responses reveal about the state of democracy in the West.</p>
  <p>The talk will be moderated by Strauss Center Director Adam Klein. Registration is required and does not guarantee you a seat.</p>
  <p>Christopher Caldwell is a Senior Fellow at The Claremont Institute and one of America’s most incisive cultural and political commentators. A contributing editor at The Claremont Review of Books and a contributing Opinion writer for The New York Times, Caldwell is the author of Reflections on the Revolution in Europe: Immigration, Islam, and the West and the bestselling The Age of Entitlement: America Since the Sixties, both widely praised for their bold, clarifying insight into the social and constitutional upheavals of the modern West. He is the recipient of the 2025 Henry Salvatori Prize in the American Founding.
  </p>\n\nIf you need an accommodation to participate in this event, please contact the event sponsor or the Texas Law Special Events Office at specialevents@law.utexas.edu no later than seven business days prior to the event.
X-ALT-DESC;FMTTYPE=text/html:<p>On Tuesday, October 21st, please join the University of Texas’s Strauss Center for International Security and Law, Clements Center for National Security, School of Civic Leadership, and Civitas Institute, in collaboration with the Claremont Institute, in hosting Christopher Caldwell, New York Times columnist and Senior Fellow at the Claremont Institute, as he discusses populism and censorship in Europe.</p>
  <p>Across Europe, populist movements have gained widespread support, yet face growing restrictions on their political participation and exercise of speech. From the shores of Ireland to the gates of Moscow, debates over immigration, nationalism, and cultural identity have become flashpoints for decisions on who gets to speak in the public square—and who decides what counts as acceptable opinion. Mr. Caldwell will examine how European governments and institutions are responding to the success of populist movements in Europe and what these responses reveal about the state of democracy in the West.</p>
  <p>The talk will be moderated by Strauss Center Director Adam Klein. Registration is required and does not guarantee you a seat.</p>
  <p>Christopher Caldwell is a Senior Fellow at The Claremont Institute and one of America’s most incisive cultural and political commentators. A contributing editor at The Claremont Review of Books and a contributing Opinion writer for The New York Times, Caldwell is the author of Reflections on the Revolution in Europe: Immigration, Islam, and the West and the bestselling The Age of Entitlement: America Since the Sixties, both widely praised for their bold, clarifying insight into the social and constitutional upheavals of the modern West. He is the recipient of the 2025 Henry Salvatori Prize in the American Founding.
  </p><p>If you need an accommodation to participate in this event, please contact the event
                                          event sponsor or the Texas Law Special Events Office at <a href="mailto:specialevents@law.utexas.edu">specialevents@law.utexas.edu</a> no later than seven business days prior to the event.</p>
CATEGORIES:Panel Discussion / Speaker Series
LOCATION:Bass Lecture Hall, LBJ School
URL:http://law.utexas.edu/calendar/2025/10/21/84662/
CLASS:PUBLIC
STATUS:CONFIRMED

END:VEVENT
END:VCALENDAR