BEGIN:VCALENDAR
VERSION:2.0
PRODID:-//UNIVERSITY OF TEXAS SCHOOL OF LAW//NONSGML Events Calendar v1.0//EN
X-WR-TIMEZONE:America/Chicago
BEGIN:VTIMEZONE
TZID:US/Central
X-LIC-LOCATION:America/Chicago
BEGIN:DAYLIGHT
TZOFFSETFROM:-0600
TZOFFSETTO:-0500
TZNAME:CDT
DTSTART:19700308T020000
RRULE:FREQ=YEARLY;BYMONTH=3;BYDAY=2SU
END:DAYLIGHT
BEGIN:STANDARD
TZOFFSETFROM:-0500
TZOFFSETTO:-0600
TZNAME:CST
DTSTART:19701101T020000
RRULE:FREQ=YEARLY;BYMONTH=11;BYDAY=1SU
END:STANDARD
END:VTIMEZONE
BEGIN:VEVENT
DTSTART;TZID=US/Central:20251022T160000


DTSTAMP:20260419T150800Z
CREATED:20250930T161200Z
LAST-MODIFIED:20251009T162300Z
UID:20251022T160000-84505@law.utexas.edu
SUMMARY:Developements in Reproductive Health
DESCRIPTION:<p>The Sissy Farenthold Reproductive Justice Defense Project hosts a conversation between Prof.  Rachel Rebouché  and Blake Rocap, who will discuss and analyze new laws passed by the Texas Legislature, changes to shield laws in other states, and ongoing litigation related to reproductive healthcare.</p>\n\nIf you need an accommodation to participate in this event, please contact the event sponsor or the Texas Law Special Events Office at specialevents@law.utexas.edu no later than seven business days prior to the event.
X-ALT-DESC;FMTTYPE=text/html:<p>The Sissy Farenthold Reproductive Justice Defense Project hosts a conversation between Prof.  Rachel Rebouché  and Blake Rocap, who will discuss and analyze new laws passed by the Texas Legislature, changes to shield laws in other states, and ongoing litigation related to reproductive healthcare.</p><p>If you need an accommodation to participate in this event, please contact the event
                                          event sponsor or the Texas Law Special Events Office at <a href="mailto:specialevents@law.utexas.edu">specialevents@law.utexas.edu</a> no later than seven business days prior to the event.</p>
CATEGORIES:Panel Discussion / Speaker Series
LOCATION:TNH 2.138 - Blanton Classroom
URL:http://law.utexas.edu/calendar/2025/10/22/84505/
CLASS:PUBLIC
STATUS:CONFIRMED
COMMENT:Contact Breanna Silva (breanna.silva@law.utexas.edu)
END:VEVENT
END:VCALENDAR