BEGIN:VCALENDAR
VERSION:2.0
PRODID:-//UNIVERSITY OF TEXAS SCHOOL OF LAW//NONSGML Events Calendar v1.0//EN
X-WR-TIMEZONE:America/Chicago
BEGIN:VTIMEZONE
TZID:US/Central
X-LIC-LOCATION:America/Chicago
BEGIN:DAYLIGHT
TZOFFSETFROM:-0600
TZOFFSETTO:-0500
TZNAME:CDT
DTSTART:19700308T020000
RRULE:FREQ=YEARLY;BYMONTH=3;BYDAY=2SU
END:DAYLIGHT
BEGIN:STANDARD
TZOFFSETFROM:-0500
TZOFFSETTO:-0600
TZNAME:CST
DTSTART:19701101T020000
RRULE:FREQ=YEARLY;BYMONTH=11;BYDAY=1SU
END:STANDARD
END:VTIMEZONE
BEGIN:VEVENT
DTSTART;TZID=US/Central:20251023T160000
DTEND;VALUE=DATE-TIME;TZID=US/Central:20251023T180000

DTSTAMP:20260419T185700Z
CREATED:20250905T130900Z
LAST-MODIFIED:20250905T171800Z
UID:20251023T160000-84119@law.utexas.edu
SUMMARY:Out in Law Panel &amp; Happy Hour
DESCRIPTION:<p>Students will have the opportunity to hear from and ask questions to LGBTQ+ attorneys from big law firms. Panelists will share how their LGBTQ+ identity intersects with working in big law, advice they have for soon-to-be LGBTQ+ attorneys, and what their practice areas entail. Following the panel, guests are welcome to mingle and continue the conversation at the happy hour in the Jamail Pavilion, where drinks and light bites will be served. </p>
  <p>RSVP link to be provided soon. </p>\n\nIf you need an accommodation to participate in this event, please contact the event sponsor or the Texas Law Special Events Office at specialevents@law.utexas.edu no later than seven business days prior to the event.
X-ALT-DESC;FMTTYPE=text/html:<p>Students will have the opportunity to hear from and ask questions to LGBTQ+ attorneys from big law firms. Panelists will share how their LGBTQ+ identity intersects with working in big law, advice they have for soon-to-be LGBTQ+ attorneys, and what their practice areas entail. Following the panel, guests are welcome to mingle and continue the conversation at the happy hour in the Jamail Pavilion, where drinks and light bites will be served. </p>
  <p>RSVP link to be provided soon. </p><p>If you need an accommodation to participate in this event, please contact the event
                                          event sponsor or the Texas Law Special Events Office at <a href="mailto:specialevents@law.utexas.edu">specialevents@law.utexas.edu</a> no later than seven business days prior to the event.</p>
CATEGORIES:Panel Discussion / Speaker Series
LOCATION:CCJ 2.306 - Eidman Courtroom
URL:http://law.utexas.edu/calendar/2025/10/23/84119/
CLASS:PUBLIC
STATUS:CONFIRMED
COMMENT:outlaw.txlaw@gmail.com
END:VEVENT
END:VCALENDAR