BEGIN:VCALENDAR
VERSION:2.0
PRODID:-//UNIVERSITY OF TEXAS SCHOOL OF LAW//NONSGML Events Calendar v1.0//EN
X-WR-TIMEZONE:America/Chicago
BEGIN:VTIMEZONE
TZID:US/Central
X-LIC-LOCATION:America/Chicago
BEGIN:DAYLIGHT
TZOFFSETFROM:-0600
TZOFFSETTO:-0500
TZNAME:CDT
DTSTART:19700308T020000
RRULE:FREQ=YEARLY;BYMONTH=3;BYDAY=2SU
END:DAYLIGHT
BEGIN:STANDARD
TZOFFSETFROM:-0500
TZOFFSETTO:-0600
TZNAME:CST
DTSTART:19701101T020000
RRULE:FREQ=YEARLY;BYMONTH=11;BYDAY=1SU
END:STANDARD
END:VTIMEZONE
BEGIN:VEVENT
DTSTART;TZID=US/Central:20251024T190000


DTSTAMP:20260419T185800Z
CREATED:20250911T132100Z
LAST-MODIFIED:20250912T163500Z
UID:20251024T190000-84236@law.utexas.edu
SUMMARY:Casino Night
DESCRIPTION:<p>Join us for Casino Night! There will be free drinks, a variety of casino games--blackjack, poker, roulette-- and lots of special prizes up for grabs. Your ticket gets you $1,000 of funny money to gamble and win chips that will convert to raffle tickets at the end of the night, so win big to better your odds. Cocktail attire is preferred. All proceeds support needs-based stipends for public interest students during the summer. Tickets are $25 for public interest students and $40 for all other students.</p>\n\nIf you need an accommodation to participate in this event, please contact the event sponsor or the Texas Law Special Events Office at specialevents@law.utexas.edu no later than seven business days prior to the event.
X-ALT-DESC;FMTTYPE=text/html:<p>Join us for Casino Night! There will be free drinks, a variety of casino games--blackjack, poker, roulette-- and lots of special prizes up for grabs. Your ticket gets you $1,000 of funny money to gamble and win chips that will convert to raffle tickets at the end of the night, so win big to better your odds. Cocktail attire is preferred. All proceeds support needs-based stipends for public interest students during the summer. Tickets are $25 for public interest students and $40 for all other students.</p><p>If you need an accommodation to participate in this event, please contact the event
                                          event sponsor or the Texas Law Special Events Office at <a href="mailto:specialevents@law.utexas.edu">specialevents@law.utexas.edu</a> no later than seven business days prior to the event.</p>
CATEGORIES:Other
LOCATION:Fiesta Gardens
URL:http://law.utexas.edu/calendar/2025/10/24/84236/
CLASS:PUBLIC
STATUS:CONFIRMED

END:VEVENT
END:VCALENDAR