BEGIN:VCALENDAR
VERSION:2.0
PRODID:-//UNIVERSITY OF TEXAS SCHOOL OF LAW//NONSGML Events Calendar v1.0//EN
X-WR-TIMEZONE:America/Chicago
BEGIN:VTIMEZONE
TZID:US/Central
X-LIC-LOCATION:America/Chicago
BEGIN:DAYLIGHT
TZOFFSETFROM:-0600
TZOFFSETTO:-0500
TZNAME:CDT
DTSTART:19700308T020000
RRULE:FREQ=YEARLY;BYMONTH=3;BYDAY=2SU
END:DAYLIGHT
BEGIN:STANDARD
TZOFFSETFROM:-0500
TZOFFSETTO:-0600
TZNAME:CST
DTSTART:19701101T020000
RRULE:FREQ=YEARLY;BYMONTH=11;BYDAY=1SU
END:STANDARD
END:VTIMEZONE
BEGIN:VEVENT
DTSTART;TZID=US/Central:20251203T173000
DTEND;VALUE=DATE-TIME;TZID=US/Central:20251203T193000

DTSTAMP:20260419T153100Z
CREATED:20251008T202400Z
LAST-MODIFIED:20251106T152400Z
UID:20251203T173000-84642@law.utexas.edu
SUMMARY:Texas Law on Tour: Houston
DESCRIPTION:<p>The Texas Law holiday party is back — and you’re invited.</p>
  <p>Join Dean Bobby Chesney and Houston-area alumni for a festive evening of conversation, community, and updates from your alma mater. </p>
  <p>We’re celebrating the return of a favorite tradition — now as part of Texas Law on Tour.</p>\n\nIf you need an accommodation to participate in this event, please contact the event sponsor or the Texas Law Special Events Office at specialevents@law.utexas.edu no later than seven business days prior to the event.
X-ALT-DESC;FMTTYPE=text/html:<p>The Texas Law holiday party is back — and you’re invited.</p>
  <p>Join Dean Bobby Chesney and Houston-area alumni for a festive evening of conversation, community, and updates from your alma mater. </p>
  <p>We’re celebrating the return of a favorite tradition — now as part of Texas Law on Tour.</p><p>If you need an accommodation to participate in this event, please contact the event
                                          event sponsor or the Texas Law Special Events Office at <a href="mailto:specialevents@law.utexas.edu">specialevents@law.utexas.edu</a> no later than seven business days prior to the event.</p>
CATEGORIES:Reception
LOCATION:The Grove<br>1611 Lamar St, Houston, TX 77010
URL:http://law.utexas.edu/calendar/2025/12/03/84642/
CLASS:PUBLIC
STATUS:CONFIRMED

END:VEVENT
END:VCALENDAR