BEGIN:VCALENDAR
VERSION:2.0
PRODID:-//UNIVERSITY OF TEXAS SCHOOL OF LAW//NONSGML Events Calendar v1.0//EN
X-WR-TIMEZONE:America/Chicago
BEGIN:VTIMEZONE
TZID:US/Central
X-LIC-LOCATION:America/Chicago
BEGIN:DAYLIGHT
TZOFFSETFROM:-0600
TZOFFSETTO:-0500
TZNAME:CDT
DTSTART:19700308T020000
RRULE:FREQ=YEARLY;BYMONTH=3;BYDAY=2SU
END:DAYLIGHT
BEGIN:STANDARD
TZOFFSETFROM:-0500
TZOFFSETTO:-0600
TZNAME:CST
DTSTART:19701101T020000
RRULE:FREQ=YEARLY;BYMONTH=11;BYDAY=1SU
END:STANDARD
END:VTIMEZONE
BEGIN:VEVENT
DTSTART;TZID=US/Central:20251204T170000
DTEND;VALUE=DATE-TIME;TZID=US/Central:20251204T180000

DTSTAMP:20260419T171000Z
CREATED:20251120T175600Z
LAST-MODIFIED:20251201T152700Z
UID:20251204T170000-85446@law.utexas.edu
SUMMARY:Inside the Carceral State
DESCRIPTION:<p>Join us for a presentation by Dr. Elizabeth G. Kennedy, a leading scholar on migration and human rights in Central America and the U.S.–Mexico borderlands. Drawing on her extensive research, Dr. Kennedy will offer perspectives on current carceral policies, human rights, and the rule of law in El Salvador. Her talk, followed by a Q&amp;A, will address drivers and outcomes of the country’s incredibly high incarceration rate, reports of torture and deprivation of food, water, and basic hygiene in prisons, and the suspension of basic due process guarantees. Dr. Kennedy will also highlight the role of social science research in assessing carceral policy within migration contexts and provide essential context to El Salvador’s highly publicized role in the U.S. immigration system.</p>
  <p>This event is co-sponsored by the Immigration Clinic at the University of Texas School of Law, the William Wayne Justice Center for Public Interest Law, the Lozano Long Institute of Latin American Studies (LLILAS), and the Rapoport Center for Human Rights and Justice.</p>\n\nIf you need an accommodation to participate in this event, please contact the event sponsor or the Texas Law Special Events Office at specialevents@law.utexas.edu no later than seven business days prior to the event.
X-ALT-DESC;FMTTYPE=text/html:<p>Join us for a presentation by Dr. Elizabeth G. Kennedy, a leading scholar on migration and human rights in Central America and the U.S.–Mexico borderlands. Drawing on her extensive research, Dr. Kennedy will offer perspectives on current carceral policies, human rights, and the rule of law in El Salvador. Her talk, followed by a Q&amp;A, will address drivers and outcomes of the country’s incredibly high incarceration rate, reports of torture and deprivation of food, water, and basic hygiene in prisons, and the suspension of basic due process guarantees. Dr. Kennedy will also highlight the role of social science research in assessing carceral policy within migration contexts and provide essential context to El Salvador’s highly publicized role in the U.S. immigration system.</p>
  <p>This event is co-sponsored by the Immigration Clinic at the University of Texas School of Law, the William Wayne Justice Center for Public Interest Law, the Lozano Long Institute of Latin American Studies (LLILAS), and the Rapoport Center for Human Rights and Justice.</p><p>If you need an accommodation to participate in this event, please contact the event
                                          event sponsor or the Texas Law Special Events Office at <a href="mailto:specialevents@law.utexas.edu">specialevents@law.utexas.edu</a> no later than seven business days prior to the event.</p>
CATEGORIES:Panel Discussion / Speaker Series
LOCATION:CCJ 2.306 - Eidman Courtroom
URL:http://law.utexas.edu/calendar/2025/12/04/85446/
CLASS:PUBLIC
STATUS:CONFIRMED

END:VEVENT
END:VCALENDAR